BEGIN:VCALENDAR
VERSION:2.0
PRODID:-//Khoury College of Computer Sciences - ECPv6.15.20//NONSGML v1.0//EN
CALSCALE:GREGORIAN
METHOD:PUBLISH
X-ORIGINAL-URL:https://www.khoury.northeastern.edu
X-WR-CALDESC:Events for Khoury College of Computer Sciences
REFRESH-INTERVAL;VALUE=DURATION:PT1H
X-Robots-Tag:noindex
X-PUBLISHED-TTL:PT1H
BEGIN:VTIMEZONE
TZID:America/New_York
BEGIN:DAYLIGHT
TZOFFSETFROM:-0500
TZOFFSETTO:-0400
TZNAME:EDT
DTSTART:20240310T070000
END:DAYLIGHT
BEGIN:STANDARD
TZOFFSETFROM:-0400
TZOFFSETTO:-0500
TZNAME:EST
DTSTART:20241103T060000
END:STANDARD
BEGIN:DAYLIGHT
TZOFFSETFROM:-0500
TZOFFSETTO:-0400
TZNAME:EDT
DTSTART:20250309T070000
END:DAYLIGHT
BEGIN:STANDARD
TZOFFSETFROM:-0400
TZOFFSETTO:-0500
TZNAME:EST
DTSTART:20251102T060000
END:STANDARD
BEGIN:DAYLIGHT
TZOFFSETFROM:-0500
TZOFFSETTO:-0400
TZNAME:EDT
DTSTART:20260308T070000
END:DAYLIGHT
BEGIN:STANDARD
TZOFFSETFROM:-0400
TZOFFSETTO:-0500
TZNAME:EST
DTSTART:20261101T060000
END:STANDARD
END:VTIMEZONE
BEGIN:VTIMEZONE
TZID:America/Los_Angeles
BEGIN:DAYLIGHT
TZOFFSETFROM:-0800
TZOFFSETTO:-0700
TZNAME:PDT
DTSTART:20240310T100000
END:DAYLIGHT
BEGIN:STANDARD
TZOFFSETFROM:-0700
TZOFFSETTO:-0800
TZNAME:PST
DTSTART:20241103T090000
END:STANDARD
BEGIN:DAYLIGHT
TZOFFSETFROM:-0800
TZOFFSETTO:-0700
TZNAME:PDT
DTSTART:20250309T100000
END:DAYLIGHT
BEGIN:STANDARD
TZOFFSETFROM:-0700
TZOFFSETTO:-0800
TZNAME:PST
DTSTART:20251102T090000
END:STANDARD
BEGIN:DAYLIGHT
TZOFFSETFROM:-0800
TZOFFSETTO:-0700
TZNAME:PDT
DTSTART:20260308T100000
END:DAYLIGHT
BEGIN:STANDARD
TZOFFSETFROM:-0700
TZOFFSETTO:-0800
TZNAME:PST
DTSTART:20261101T090000
END:STANDARD
END:VTIMEZONE
BEGIN:VEVENT
DTSTART;TZID=America/New_York:20251202T190000
DTEND;TZID=America/New_York:20251202T203000
DTSTAMP:20260424T234955
CREATED:20250814T185030Z
LAST-MODIFIED:20251120T195510Z
UID:10006461-1764702000-1764707400@www.khoury.northeastern.edu
SUMMARY:Break Into Tech: Virtual Tech Talk
DESCRIPTION:Register now\n\n\n\n\nYour future in tech starts here — join us for an upcoming event\n\n\n\nBreak Into Tech: No experience required\n\n\n\nYou don’t need a background in tech to have a future in it. All you need is curiosity — and opportunity. Join other curious students and professionals with no tech background to learn about flexible pathways to a master’s degree in computer science\, data science\, and cybersecurity\, online and in person. \n\n\n\nFind your pathway into tech\n\n\n\nAttend a Break Into Tech event to: \n\n\n\n\nGet insights into the latest challenges in computer science\, data science\, or cybersecurity —and how you might solve them.\n\n\n\nDiscover how your unique background can lead to a future in tech with Align Master’s programs.\n\n\n\nDiscover the different pathways you can take to build a successful career in tech.\n\n\n\n\nPlease note: Participants must hold a bachelor’s degree or be nearing college graduation to participate. \n\n\n\nBreak Into Tech is for everyone\n\n\n\n\n150+ different disciplines\n\n\n\nStudents of Align master’s programs come from all backgrounds\n\n\n\n\nAbout the Align Master of Science\n\n\n\nAlign is a 2.5-year program in computer science\, data science\, or cybersecurity that provides a flexible pathway to a master’s degree for motivated students and professionals holding a bachelor’s in any discipline. \n\n\n\nYour experience matters — help shape the future of tech\n\n\n\n\n\n\nAfter my undergraduate studies\, I worked as a corporate finance analyst in a two-year rotational program at a bulge bracket investment bank. I gained business management and financial analysis skills. I did not enjoy working with the legacy database systems at this bank. This frustration was one of my introductions to tech. … I am getting a graduate degree in computer science to understand the technicalities of building software applications and become a well-rounded product manager. Luckily\, I found the Align CS program to help with the transition\, especially since I had little programming experience. … I see an entrepreneurial future in merging my love for music\, sports\, and personal finance with some tech solutions. I look forward to growing as a computer scientist and working on cool projects \n—Princewill\, Align MSCS ’25 BS Economics\n\n\n\n\n\n\n\n\n\n\n\nQuestions? Please email Khoury-prospect@northeastern.edu \n\n\n\n\nRegister now
URL:https://www.khoury.northeastern.edu/event/break-into-tech-virtual-tech-talk-11/
LOCATION:VA
CATEGORIES:Recruiting
END:VEVENT
BEGIN:VEVENT
DTSTART;TZID=America/Los_Angeles:20251203T113000
DTEND;TZID=America/Los_Angeles:20251203T140000
DTSTAMP:20260424T234955
CREATED:20250926T203058Z
LAST-MODIFIED:20251120T195510Z
UID:10006506-1764761400-1764770400@www.khoury.northeastern.edu
SUMMARY:Khoury College office hours: Bellevue College (Seattle)
DESCRIPTION:Register now\n\n\n\n\nAttend this in-person “office hour” to learn more about all the programs available at our Seattle campus. This informal session is a great opportunity to connect with our enrollment team\, an Align advisor\, and current students. \n\n\n\nDuring this session\, you’ll have the opportunity to: \n\n\n\n\nLearn about Khoury master’s programs:\n\nMS in Computer Science\n\n\n\nMS in Computer Science – Align \n\n\n\nMS in Artificial Intelligence \n\n\n\nMS in Robotics\n\n\n\n\n\nLearn more about the admissions process including application requirements\n\n\n\nReview deadlines and start terms for fall and spring\n\n\n\n\nBring your questions — we have answers! \n\n\n\n\nRegister now
URL:https://www.khoury.northeastern.edu/event/office-hours-at-bellevue-college-3/
LOCATION:Bellevue College\, 3000 Landerholm Cir SE\, Building A\, Room 109\, Bellevue\, WA\, 98007\, United States
CATEGORIES:Recruiting
END:VEVENT
BEGIN:VEVENT
DTSTART;TZID=America/New_York:20251204T170000
DTEND;TZID=America/New_York:20251204T180000
DTSTAMP:20260424T234955
CREATED:20251125T204928Z
LAST-MODIFIED:20251125T213620Z
UID:10006541-1764867600-1764871200@www.khoury.northeastern.edu
SUMMARY:Study abroad information session: Aquincum Institute of Technology in Budapest (virtual)
DESCRIPTION:Join Northeastern’s Global Experience Office (GEO) to learn about a semester abroad opportunity at Aquincum Institute of Technology (AIT)\, which offers a unique English-language study abroad experience for computer science\, math\, and computer engineering majors in Budapest. Students can complete meaningful courses while experiencing the charming and unique capital of Hungary\, which exhibits both a thriving technology sector and a vibrant history. \n\n\n\nLearn more about this opportunity at the GEO program page. \n\n\n\n\nJoin via Zoom
URL:https://www.khoury.northeastern.edu/event/study-abroad-information-session-aquincum-institute-of-technology-in-budapest-virtual/
LOCATION:VA
CATEGORIES:Advising
END:VEVENT
BEGIN:VEVENT
DTSTART;TZID=America/Los_Angeles:20251209T120000
DTEND;TZID=America/Los_Angeles:20251209T130000
DTSTAMP:20260424T234955
CREATED:20250429T150436Z
LAST-MODIFIED:20251120T195510Z
UID:10006378-1765281600-1765285200@www.khoury.northeastern.edu
SUMMARY:Khoury in Seattle Webinar
DESCRIPTION:Register now\n\n\n\n\nWhat can graduate school offer you? At Khoury College of Computer Sciences\, we believe computer science is for every-one — with the power to make the world a better place. That’s why we design flexible programs\, grounded in rigor\, opportunity\, and experience. It’s why we collaborate with industry and community partners on the technologies that shape our collec-tive future. And it’s why we seek curious thinkers with diverse backgrounds\, because multiple perspectives lead to life-changing discoveries. \n\n\n\nDuring this session we will cover the key topics \n\n\n\n\nExplore the master’s programs offered in Seattle\n\n\n\nLearn about Northeastern’s #1 ranked co-op program\n\n\n\nHear more about our Seattle campus\n\n\n\n\nJoin our virtual session to learn more about the Northeastern University Seattle campus! \n\n\n\nWho Should Attend \n\n\n\n\nProfessionals from non-tech fields considering a career switch\n\n\n\nStudents from non-computer science disciplines\n\n\n\nAnyone interested in learning about alternative pathways into the tech industry\n\n\n\n\nQuestions? Email Tim at t.greer@northeastern.edu. \n\n\n\n\nRegister now
URL:https://www.khoury.northeastern.edu/event/khoury-in-seattle-webinar-10/
LOCATION:VA
CATEGORIES:Recruiting
END:VEVENT
BEGIN:VEVENT
DTSTART;TZID=America/New_York:20251210T120000
DTEND;TZID=America/New_York:20251210T130000
DTSTAMP:20260424T234955
CREATED:20250919T194828Z
LAST-MODIFIED:20251120T195509Z
UID:10006500-1765368000-1765371600@www.khoury.northeastern.edu
SUMMARY:Align in Miami Webinar
DESCRIPTION:Register now\n\n\n\n\nAre you interested in tech but don’t have a tech background? This information session will show you how to bridge the gap for people without a tech background to earn a master’s degree\, in as little as 2.5 years\, and enter the tech industry successfully. \n\n\n\nWho should attend\n\n\n\n\nProfessionals from non-tech fields considering a career switch\n\n\n\nStudents from non-computer science disciplines\n\n\n\nAnyone interested in learning about alternative pathways into the tech industry\n\n\n\n\nOur students come from a variety of backgrounds\, with undergraduate majors ranging from math and biology to history and journalism. During this session we will cover key topics that include: \n\n\n\n\nThe Align master’s program\n\n\n\nNortheastern’s #1 ranked co-op program\n\n\n\nStudent success stories\n\n\n\nInformation about the Miami campus\n\n\n\n\n\nRegister now
URL:https://www.khoury.northeastern.edu/event/align-in-miami-webinar-8/
LOCATION:VA
CATEGORIES:Recruiting
END:VEVENT
BEGIN:VEVENT
DTSTART;TZID=America/New_York:20251212T090000
DTEND;TZID=America/New_York:20251212T170000
DTSTAMP:20260424T234955
CREATED:20251203T200020Z
LAST-MODIFIED:20251208T182031Z
UID:10006542-1765530000-1765558800@www.khoury.northeastern.edu
SUMMARY:Northeastern Systems Day
DESCRIPTION:Dear Northeastern Systems Researchers\, \n\n\n\nWe are pleased to announce that Northeastern Systems Day 2025 will take place on December 12\, 2025\, at the Cabral Center located at the John D. O’Bryant African-American Institute at Boston campus. \n\n\n\nNortheastern Systems Day has become a tradition for bringing together researchers actively engaged in computer systems research. The event provides a platform to share ongoing work\, exchange ideas\, and foster collaborations across the systems community. \n\n\n\nWe are soliciting talks about ongoing research in the area of computer systems. We are broadly interested in topics in this space\, including\, but not limited to\, operating systems\, file and storage systems\, distributed systems\, cloud computing\, mobile systems\, reliable systems\, system security\, machine learning systems\, big data systems\, embedded systems\, system virtualization\, and management and troubleshooting of complex systems.
URL:https://www.khoury.northeastern.edu/event/northeastern-systems-day/
LOCATION:The Cabral Center\, 40 Leon Street\, Boston\, Massachusetts\, 02115\, United States
END:VEVENT
BEGIN:VEVENT
DTSTART;TZID=America/New_York:20251212T130000
DTEND;TZID=America/New_York:20251212T140000
DTSTAMP:20260424T234955
CREATED:20250919T194253Z
LAST-MODIFIED:20251120T195509Z
UID:10006497-1765544400-1765548000@www.khoury.northeastern.edu
SUMMARY:Khoury in Miami Webinar
DESCRIPTION:Register now\n\n\n\n\nWhat can graduate school offer you? At Khoury College of Computer Sciences\, we believe computer science is for everyone — with the power to make the world a better place. That’s why we design flexible programs\, grounded in rigor\, opportunity\, and experience. It’s why we collaborate with industry and community partners on the technologies that shape our collective future. And it’s why we seek curious thinkers with diverse backgrounds\, because multiple perspectives lead to life-changing discoveries. \n\n\n\nDuring this session we will cover the key topics: \n\n\n\n\nExplore the master’s programs offered in Miami\n\n\n\nLearn about Northeastern’s #1 ranked co-op program\n\n\n\nHear more about our Miami campus\n\n\n\n\nJoin our virtual session to learn more about the Northeastern University Miami campus in Wynwood! \n\n\n\nWho should attend\n\n\n\n\nProfessionals and students from non-tech fields considering a career switch.\n\n\n\nProfessionals and students with a tech background looking to further their education in computer science.\n\n\n\nAnyone interested in learning about alternative pathways into the tech industry.\n\n\n\n\nQuestions? Email d.rinaldi@northeastern.edu. \n\n\n\n\nRegister now
URL:https://www.khoury.northeastern.edu/event/khoury-in-miami-webinar-8/
LOCATION:VA
CATEGORIES:Recruiting
END:VEVENT
BEGIN:VEVENT
DTSTART;TZID=America/New_York:20251213T160000
DTEND;TZID=America/New_York:20251213T180000
DTSTAMP:20260424T234955
CREATED:20251205T213749Z
LAST-MODIFIED:20251205T213751Z
UID:10006544-1765641600-1765648800@www.khoury.northeastern.edu
SUMMARY:PhD student/industry discussion: Finding your place in the job market (Boston)
DESCRIPTION:Calling Khoury PhD students! Join us to learn more about how to search for and secure internship and industry research opportunities. \n\n\n\nHear from professionals currently in industry\, learn more about preparing a resume for internships\, and network with industry professionals. Please come prepared with questions.  \n\n\n\n\nRegister now
URL:https://www.khoury.northeastern.edu/event/phd-student-industry-discussion-finding-your-place-in-the-job-market-boston-3/
LOCATION:440 Huntington Ave\, West Village H\, First Floor\, #164\, 440 Huntington Ave.\, Boston\, MA\, 2115\, United States
CATEGORIES:Career help,Networking
GEO:42.3386529;-71.0921979
X-APPLE-STRUCTURED-LOCATION;VALUE=URI;X-ADDRESS=440 Huntington Ave West Village H First Floor #164 440 Huntington Ave. Boston MA 2115 United States;X-APPLE-RADIUS=500;X-TITLE=440 Huntington Ave.:geo:-71.0921979,42.3386529
END:VEVENT
BEGIN:VEVENT
DTSTART;TZID=America/Los_Angeles:20251216T170000
DTEND;TZID=America/Los_Angeles:20251216T180000
DTSTAMP:20260424T234955
CREATED:20250905T142925Z
LAST-MODIFIED:20250911T170939Z
UID:10006484-1765904400-1765908000@www.khoury.northeastern.edu
SUMMARY:Tech Graduate Pathways in Canada: CS\, AI\, and beyond (virtual)
DESCRIPTION:Register now\n\n\n\n\nCanada’s premiere coastal tech hub: Vancouver is the perfect place to pursue your CS degree\n\n\n\nNortheastern University is a global network offering industry-aligned graduate programs grounded in experiential learning\, and research partnership opportunities to help you gain in-demand skills\, experience\, and connections to advance your career. \n\n\n\nNortheastern Vancouver provides small-group\, project-based learning at a cutting-edge campus surrounded by engaged industry partners excited to collaborate. On-site partner companies and faculty labs provide projects and opportunities directly to students. A unique research-based curriculum and capstone course provide real-world applications of classroom learning. Learn how you can embark on or further your computer science journey. \n\n\n\nDuring this session\, we will cover key topics: \n\n\n\n\nHear from Associate Teaching Professor\, Director of Computing Programs – Vancouver\, Ildar Akhmetov\, on the master’s degree programs offered in Vancouver \n\nThroughout his career\, Professor Akhmetov has worn three hats. As a university educator\, he spent more than a decade in his native Russia before jumping to the University of Alberta. There\, he continued to design and teach undergraduate and graduate courses\, with an emphasis on forging partnerships to facilitate hands-on\, experiential projects for his students. As an entrepreneur\, he founded and managed several businesses. And as a software developer\, he has overseen the development\, integration\, maintenance\, and security of IT and computer systems. His research interests are in computing education and software engineering.\n\n\n\n\n\nLearn about Northeastern’s #1 ranked co-op program\n\n\n\nJoin our virtual session to learn more about the Northeastern University Vancouver campus in Vancouver\, BC\n\n\n\n\nWho should attend \n\n\n\n\nProfessionals from non-tech fields considering a career switch\n\n\n\nStudents from non-computer science disciplines\n\n\n\nAnyone interested in learning about alternative pathways into the tech industry\n\n\n\n\nQuestions? Email Dom Rinaldi at d.rinaldi@northeastern.edu. \n\n\n\n\nRegister now
URL:https://www.khoury.northeastern.edu/event/tech-graduate-pathways-in-canada-cs-ai-and-beyond-virtual-4/
LOCATION:VA
CATEGORIES:Recruiting
END:VEVENT
BEGIN:VEVENT
DTSTART;TZID=America/New_York:20251217T120000
DTEND;TZID=America/New_York:20251217T130000
DTSTAMP:20260424T234955
CREATED:20250509T152609Z
LAST-MODIFIED:20251203T203050Z
UID:10006383-1765972800-1765976400@www.khoury.northeastern.edu
SUMMARY:Prospective Master’s Student Drop-in Session (virtual)
DESCRIPTION:Register now\n\n\n\n\nAttend a drop-in session to ask any questions you have about your application\, career interest\, personal goals\, next steps\, and more! This informal session is a great opportunity to connect with our enrollment team and our current student ambassadors. Bring your questions\, we have answers! \n\n\n\nDuring this session you will be able to: \n\n\n\n\nHear more about the master’s programs at Khoury\n\n\n\nLearn more about the admissions process including application requirements\n\n\n\nReview deadlines and start terms for Spring and Fall\n\n\n\n\nThis event is virtual. Register today to receive your link to join! \n\n\n\n\nRegister now\n\n\n\n\nQuestions? Email khoury-prospect@northeastern.edu.
URL:https://www.khoury.northeastern.edu/event/prospective-masters-student-drop-in-session-12/
LOCATION:VA
CATEGORIES:Recruiting
END:VEVENT
BEGIN:VEVENT
DTSTART;TZID=America/New_York:20251217T180000
DTEND;TZID=America/New_York:20251217T193000
DTSTAMP:20260424T234955
CREATED:20250930T150605Z
LAST-MODIFIED:20250930T160543Z
UID:10006514-1765994400-1765999800@www.khoury.northeastern.edu
SUMMARY:Networking discussion: "Taco 'bout Tech" with Northeastern University (Miami)
DESCRIPTION:Register now\n\n\n\n\nAre you looking for more opportunities to network and discuss tech in Miami? Register now for this informal chance to meet like-minded individuals. Whether you’re currently working in tech or looking for a career change\, this is the event for you.  \n\n\n\nMeet faculty from Northeastern University’s Khoury College of Computer Sciences and dive into a discussion on relevant topics within computer science. From AI to understanding how you can make an impact through computer science in your community\, the conversation is endless.  Join us for appetizers at Tacology in Miami (map below) to learn more about the Align Master’s program at Northeastern University. \n\n\n\nPlease note: Participants must hold a bachelor’s degree or be nearing college graduation to participate. \n\n\n\nQuestions? Email d.rinaldi@northeastern.edu \n\n\n\n\nRegister now
URL:https://www.khoury.northeastern.edu/event/taco-bout-tech-with-northeastern-university-3/
LOCATION:Tacology\, 2701 NW 2nd Ave.\, Miami\, Florida\, 33127\, United States
CATEGORIES:Networking
END:VEVENT
BEGIN:VEVENT
DTSTART;TZID=America/Los_Angeles:20251218T120000
DTEND;TZID=America/Los_Angeles:20251218T130000
DTSTAMP:20260424T234956
CREATED:20250910T142242Z
LAST-MODIFIED:20251120T195509Z
UID:10006486-1766059200-1766062800@www.khoury.northeastern.edu
SUMMARY:Khoury in California Webinar
DESCRIPTION:Register now\n\n\n\n\nWhat can graduate school offer you? At Khoury College of Computer Sciences\, we believe computer science is for everyone — with the power to make the world a better place. That’s why we design flexible programs\, grounded in rigor\, opportunity\, and experience. It’s why we collaborate with industry and community partners on the technologies that shape our collective future. And it’s why we seek curious thinkers with diverse backgrounds\, because multiple perspectives lead to life-changing discoveries. \n\n\n\nDuring this session\, we will cover key topics: \n\n\n\n\nExplore the master’s programs offered in the Bay Area\n\n\n\nLearn about Northeastern’s #1 ranked co-op program\n\n\n\nHear more about our Bay Area campuses\n\n\n\n\nJoin our virtual session to learn more about the Northeastern University’s Bay Area campuses (Oakland and Silicon Valley)! \n\n\n\nWho should attend \n\n\n\n\nProfessionals from non-tech fields considering a career switch\n\n\n\nStudents from non-computer science disciplines\n\n\n\nAnyone interested in learning about alternative pathways into the tech industry\n\n\n\n\nQuestions? Email Pamela at p.allen@northeastern.edu. \n\n\n\n\nRegister now
URL:https://www.khoury.northeastern.edu/event/khoury-in-california-webinar-4/
LOCATION:VA
CATEGORIES:Recruiting
END:VEVENT
END:VCALENDAR