BEGIN:VCALENDAR
VERSION:2.0
PRODID:-//Khoury College of Computer Sciences - ECPv6.15.20//NONSGML v1.0//EN
CALSCALE:GREGORIAN
METHOD:PUBLISH
X-WR-CALNAME:Khoury College of Computer Sciences
X-ORIGINAL-URL:https://www.khoury.northeastern.edu
X-WR-CALDESC:Events for Khoury College of Computer Sciences
REFRESH-INTERVAL;VALUE=DURATION:PT1H
X-Robots-Tag:noindex
X-PUBLISHED-TTL:PT1H
BEGIN:VTIMEZONE
TZID:America/New_York
BEGIN:DAYLIGHT
TZOFFSETFROM:-0500
TZOFFSETTO:-0400
TZNAME:EDT
DTSTART:20250309T070000
END:DAYLIGHT
BEGIN:STANDARD
TZOFFSETFROM:-0400
TZOFFSETTO:-0500
TZNAME:EST
DTSTART:20251102T060000
END:STANDARD
BEGIN:DAYLIGHT
TZOFFSETFROM:-0500
TZOFFSETTO:-0400
TZNAME:EDT
DTSTART:20260308T070000
END:DAYLIGHT
BEGIN:STANDARD
TZOFFSETFROM:-0400
TZOFFSETTO:-0500
TZNAME:EST
DTSTART:20261101T060000
END:STANDARD
BEGIN:DAYLIGHT
TZOFFSETFROM:-0500
TZOFFSETTO:-0400
TZNAME:EDT
DTSTART:20270314T070000
END:DAYLIGHT
BEGIN:STANDARD
TZOFFSETFROM:-0400
TZOFFSETTO:-0500
TZNAME:EST
DTSTART:20271107T060000
END:STANDARD
END:VTIMEZONE
BEGIN:VEVENT
DTSTART;TZID=America/New_York:20260508T160000
DTEND;TZID=America/New_York:20260508T170000
DTSTAMP:20260425T152536
CREATED:20260224T155536Z
LAST-MODIFIED:20260224T163919Z
UID:10006624-1778256000-1778259600@www.khoury.northeastern.edu
SUMMARY:Northeastern University Arlington Commencement
DESCRIPTION:Learn more about Commencement 2026\n\n\n\n\nThe ceremony is expected to last 60 minutes. For questions about the Arlington Commencement\, including eligibility requirements\, ticket FAQ\, and more\, please contact Arlington@northeastern.edu or refer to the Arlington Commencement web page. 
URL:https://www.khoury.northeastern.edu/event/northeastern-university-arlington-commencement/
LOCATION:The George Washington Masonic National Memorial Hall\, 101 Callahan Drive\, Alexandria\, Virginia\, 22301\, United States
CATEGORIES:Commencement
END:VEVENT
END:VCALENDAR