BEGIN:VCALENDAR
VERSION:2.0
PRODID:-//Khoury College of Computer Sciences - ECPv6.15.20//NONSGML v1.0//EN
CALSCALE:GREGORIAN
METHOD:PUBLISH
X-WR-CALNAME:Khoury College of Computer Sciences
X-ORIGINAL-URL:https://www.khoury.northeastern.edu
X-WR-CALDESC:Events for Khoury College of Computer Sciences
REFRESH-INTERVAL;VALUE=DURATION:PT1H
X-Robots-Tag:noindex
X-PUBLISHED-TTL:PT1H
BEGIN:VTIMEZONE
TZID:America/New_York
BEGIN:DAYLIGHT
TZOFFSETFROM:-0500
TZOFFSETTO:-0400
TZNAME:EDT
DTSTART:20250309T070000
END:DAYLIGHT
BEGIN:STANDARD
TZOFFSETFROM:-0400
TZOFFSETTO:-0500
TZNAME:EST
DTSTART:20251102T060000
END:STANDARD
BEGIN:DAYLIGHT
TZOFFSETFROM:-0500
TZOFFSETTO:-0400
TZNAME:EDT
DTSTART:20260308T070000
END:DAYLIGHT
BEGIN:STANDARD
TZOFFSETFROM:-0400
TZOFFSETTO:-0500
TZNAME:EST
DTSTART:20261101T060000
END:STANDARD
BEGIN:DAYLIGHT
TZOFFSETFROM:-0500
TZOFFSETTO:-0400
TZNAME:EDT
DTSTART:20270314T070000
END:DAYLIGHT
BEGIN:STANDARD
TZOFFSETFROM:-0400
TZOFFSETTO:-0500
TZNAME:EST
DTSTART:20271107T060000
END:STANDARD
END:VTIMEZONE
BEGIN:VEVENT
DTSTART;TZID=America/New_York:20260424T100000
DTEND;TZID=America/New_York:20260424T120000
DTSTAMP:20260425T074822
CREATED:20260224T163508Z
LAST-MODIFIED:20260224T163541Z
UID:10006632-1777024800-1777032000@www.khoury.northeastern.edu
SUMMARY:Northeastern University Doctor of Philosophy Commencement
DESCRIPTION:Learn more about Commencement 2026\n\n\n\n\nThis ceremony last 90-120 minutes and will include the Investiture of Doctoral Hoods by the student’s advisor or associate director of the student’s college.  \n\n\n\nIt will be livestreamed for those unable to attend. Find details on the commencement web page on the day of the ceremony.  \n\n\n\nFor questions about the PhD Commencement\, including eligibility requirements\, ticket FAQ\, and more\, please refer to the PhD Commencement web page. 
URL:https://www.khoury.northeastern.edu/event/northeastern-university-doctor-of-philosophy-commencement/
LOCATION:Leader Bank Pavilion\, 290 Northern Avenue\, Boston\, Massachusetts\, 02210\, United States
CATEGORIES:Commencement
END:VEVENT
END:VCALENDAR