BEGIN:VCALENDAR
VERSION:2.0
PRODID:-//Khoury College of Computer Sciences - ECPv6.15.20//NONSGML v1.0//EN
CALSCALE:GREGORIAN
METHOD:PUBLISH
X-WR-CALNAME:Khoury College of Computer Sciences
X-ORIGINAL-URL:https://www.khoury.northeastern.edu
X-WR-CALDESC:Events for Khoury College of Computer Sciences
REFRESH-INTERVAL;VALUE=DURATION:PT1H
X-Robots-Tag:noindex
X-PUBLISHED-TTL:PT1H
BEGIN:VTIMEZONE
TZID:America/New_York
BEGIN:DAYLIGHT
TZOFFSETFROM:-0500
TZOFFSETTO:-0400
TZNAME:EDT
DTSTART:20250309T070000
END:DAYLIGHT
BEGIN:STANDARD
TZOFFSETFROM:-0400
TZOFFSETTO:-0500
TZNAME:EST
DTSTART:20251102T060000
END:STANDARD
BEGIN:DAYLIGHT
TZOFFSETFROM:-0500
TZOFFSETTO:-0400
TZNAME:EDT
DTSTART:20260308T070000
END:DAYLIGHT
BEGIN:STANDARD
TZOFFSETFROM:-0400
TZOFFSETTO:-0500
TZNAME:EST
DTSTART:20261101T060000
END:STANDARD
BEGIN:DAYLIGHT
TZOFFSETFROM:-0500
TZOFFSETTO:-0400
TZNAME:EDT
DTSTART:20270314T070000
END:DAYLIGHT
BEGIN:STANDARD
TZOFFSETFROM:-0400
TZOFFSETTO:-0500
TZNAME:EST
DTSTART:20271107T060000
END:STANDARD
END:VTIMEZONE
BEGIN:VEVENT
DTSTART;TZID=America/New_York:20260313T080000
DTEND;TZID=America/New_York:20260313T130000
DTSTAMP:20260423T070827
CREATED:20260225T204756Z
LAST-MODIFIED:20260225T204759Z
UID:10006637-1773388800-1773406800@www.khoury.northeastern.edu
SUMMARY:PhD Open House
DESCRIPTION:More information to come.
URL:https://www.khoury.northeastern.edu/event/phd-open-house/
LOCATION:Raytheon Amphitheater\, 120 Forsyth Street\, Boston\, MA\, 2115\, United States
CATEGORIES:Recruiting,Social
GEO:42.3376672;-71.0888928
X-APPLE-STRUCTURED-LOCATION;VALUE=URI;X-ADDRESS=Raytheon Amphitheater 120 Forsyth Street Boston MA 2115 United States;X-APPLE-RADIUS=500;X-TITLE=120 Forsyth Street:geo:-71.0888928,42.3376672
END:VEVENT
BEGIN:VEVENT
DTSTART;TZID=America/New_York:20260313T180000
DTEND;TZID=America/New_York:20260313T190000
DTSTAMP:20260423T070827
CREATED:20260310T140547Z
LAST-MODIFIED:20260311T155455Z
UID:10006640-1773424800-1773428400@www.khoury.northeastern.edu
SUMMARY:Oasis and Sandbox craft night (Boston)
DESCRIPTION:This event is for Oasis and Sandbox members to get together for a craft night. Supplies will be provided for diamond painting; the event will take place in Dodge 119.
URL:https://www.khoury.northeastern.edu/event/oasis-and-sandbox-craft-night/
LOCATION:Dodge Hall\, 324 Huntington Avenue\, Boston\, MA\, 02115\, United States
CATEGORIES:Extracurricular,Social
GEO:42.3394629;-71.0885286
X-APPLE-STRUCTURED-LOCATION;VALUE=URI;X-ADDRESS=Dodge Hall 324 Huntington Avenue Boston MA 02115 United States;X-APPLE-RADIUS=500;X-TITLE=324 Huntington Avenue:geo:-71.0885286,42.3394629
END:VEVENT
END:VCALENDAR