BEGIN:VCALENDAR
VERSION:2.0
PRODID:-//Khoury College of Computer Sciences - ECPv6.15.20//NONSGML v1.0//EN
CALSCALE:GREGORIAN
METHOD:PUBLISH
X-WR-CALNAME:Khoury College of Computer Sciences
X-ORIGINAL-URL:https://www.khoury.northeastern.edu
X-WR-CALDESC:Events for Khoury College of Computer Sciences
REFRESH-INTERVAL;VALUE=DURATION:PT1H
X-Robots-Tag:noindex
X-PUBLISHED-TTL:PT1H
BEGIN:VTIMEZONE
TZID:America/New_York
BEGIN:DAYLIGHT
TZOFFSETFROM:-0500
TZOFFSETTO:-0400
TZNAME:EDT
DTSTART:20250309T070000
END:DAYLIGHT
BEGIN:STANDARD
TZOFFSETFROM:-0400
TZOFFSETTO:-0500
TZNAME:EST
DTSTART:20251102T060000
END:STANDARD
BEGIN:DAYLIGHT
TZOFFSETFROM:-0500
TZOFFSETTO:-0400
TZNAME:EDT
DTSTART:20260308T070000
END:DAYLIGHT
BEGIN:STANDARD
TZOFFSETFROM:-0400
TZOFFSETTO:-0500
TZNAME:EST
DTSTART:20261101T060000
END:STANDARD
BEGIN:DAYLIGHT
TZOFFSETFROM:-0500
TZOFFSETTO:-0400
TZNAME:EDT
DTSTART:20270314T070000
END:DAYLIGHT
BEGIN:STANDARD
TZOFFSETFROM:-0400
TZOFFSETTO:-0500
TZNAME:EST
DTSTART:20271107T060000
END:STANDARD
END:VTIMEZONE
BEGIN:VEVENT
DTSTART;TZID=America/New_York:20260205T120000
DTEND;TZID=America/New_York:20260205T140000
DTSTAMP:20260425T152526
CREATED:20260127T164812Z
LAST-MODIFIED:20260127T182849Z
UID:10006571-1770292800-1770300000@www.khoury.northeastern.edu
SUMMARY:Walk Wynwood with Northeastern University in Miami
DESCRIPTION:Register now \n\n\n\n\nNortheastern University in Miami is located in the city’s Wynwood neighborhood\, and we invite you to join Khoury College of Computer Sciences graduate students for a walk around the area! From the world’s largest street art museum to a rich\, Cuban Latin culture and an active nightlife\, Wynwood is a buzzing spot to be part of the booming tech sector of Miami.   \n\n\n\nTake this opportunity to walk Wynwood to gain insight into the student perspective\, and consider how you can use computer science to create your own art or align your passion with CS.   \n\n\n\n\nRegister now \n\n\n\n\nPlease note: Participants must hold a bachelor’s degree or be nearing college graduation to participate. A background in tech is not required. \n\n\n\nQuestions? Email d.rinaldi@northeastern.edu.
URL:https://www.khoury.northeastern.edu/event/walk-wynwood-with-northeastern-university-miami/
LOCATION:Northeastern University in Miami\, 230 NW 24th St\, Miami\, Florida\, 33127\, United States
CATEGORIES:Recruiting
END:VEVENT
END:VCALENDAR