BEGIN:VCALENDAR
VERSION:2.0
PRODID:-//Khoury College of Computer Sciences - ECPv6.15.20//NONSGML v1.0//EN
CALSCALE:GREGORIAN
METHOD:PUBLISH
X-WR-CALNAME:Khoury College of Computer Sciences
X-ORIGINAL-URL:https://www.khoury.northeastern.edu
X-WR-CALDESC:Events for Khoury College of Computer Sciences
REFRESH-INTERVAL;VALUE=DURATION:PT1H
X-Robots-Tag:noindex
X-PUBLISHED-TTL:PT1H
BEGIN:VTIMEZONE
TZID:America/New_York
BEGIN:DAYLIGHT
TZOFFSETFROM:-0500
TZOFFSETTO:-0400
TZNAME:EDT
DTSTART:20250309T070000
END:DAYLIGHT
BEGIN:STANDARD
TZOFFSETFROM:-0400
TZOFFSETTO:-0500
TZNAME:EST
DTSTART:20251102T060000
END:STANDARD
BEGIN:DAYLIGHT
TZOFFSETFROM:-0500
TZOFFSETTO:-0400
TZNAME:EDT
DTSTART:20260308T070000
END:DAYLIGHT
BEGIN:STANDARD
TZOFFSETFROM:-0400
TZOFFSETTO:-0500
TZNAME:EST
DTSTART:20261101T060000
END:STANDARD
BEGIN:DAYLIGHT
TZOFFSETFROM:-0500
TZOFFSETTO:-0400
TZNAME:EDT
DTSTART:20270314T070000
END:DAYLIGHT
BEGIN:STANDARD
TZOFFSETFROM:-0400
TZOFFSETTO:-0500
TZNAME:EST
DTSTART:20271107T060000
END:STANDARD
END:VTIMEZONE
BEGIN:VEVENT
DTSTART;TZID=America/New_York:20260121T120000
DTEND;TZID=America/New_York:20260121T130000
DTSTAMP:20260422T164115
CREATED:20250509T152801Z
LAST-MODIFIED:20251203T203157Z
UID:10006384-1768996800-1769000400@www.khoury.northeastern.edu
SUMMARY:Prospective Master’s Student Drop-in Session (virtual)
DESCRIPTION:Register now\n\n\n\n\nAttend a drop-in session to ask any questions you have about your application\, career interest\, personal goals\, next steps\, and more! This informal session is a great opportunity to connect with our enrollment team and our current student ambassadors. Bring your questions\, we have answers! \n\n\n\nDuring this session you will be able to: \n\n\n\n\nHear more about the master’s programs at Khoury College\n\n\n\nLearn more about the admissions process including application requirements\n\n\n\nReview deadlines and start terms for spring and fall\n\n\n\n\nThis event is virtual. Register today to receive your link to join! \n\n\n\n\nRegister now\n\n\n\n\nQuestions? Email khoury-prospect@northeastern.edu.
URL:https://www.khoury.northeastern.edu/event/prospective-masters-student-drop-in-session-13/
CATEGORIES:Recruiting
END:VEVENT
BEGIN:VEVENT
DTSTART;TZID=America/New_York:20260121T170000
DTEND;TZID=America/New_York:20260121T180000
DTSTAMP:20260422T164115
CREATED:20260114T205756Z
LAST-MODIFIED:20260116T164837Z
UID:10006546-1769014800-1769018400@www.khoury.northeastern.edu
SUMMARY:Khoury Bridge: From Degree to Dream Job — Charting Your Own Path (virtual)
DESCRIPTION:Sign-up link/survey form\n\n\n\n\nKhoury seniors\, if you’re on your last co-op and/or thinking ahead to life after graduation — and wondering what comes next — you’re not alone. Let Khoury Bridge\, our career and postgrad planning series\, help you navigate the steps to take to get “full-time ready.”  \n\n\n\nPicture yourself a year from now. \n\n\n\nThe job market feels overwhelming — endless applications\, radio silence\, everyone chasing the same roles at the same companies. But here’s what they don’t tell you: the best opportunities often hide in unexpected places. \n\n\n\nJoin us for a conversation with Khoury alumni Lou Harwood\, Adam Markon\, and Robert Sanders\, who all threw out the rule book when it came to charting their futures. \n\n\n\nThey’ll share how they found their paths\, what actually works in today’s job market\, and why your network might be your secret weapon. Come ready with questions — this is your chance to learn what’s really out there. \n\n\n\n\nSign-up link/survey form
URL:https://www.khoury.northeastern.edu/event/khoury-bridge-from-degree-to-dream-job-charting-your-own-path-virtual/
CATEGORIES:Career help
END:VEVENT
END:VCALENDAR