BEGIN:VCALENDAR
VERSION:2.0
PRODID:-//Khoury College of Computer Sciences - ECPv6.15.20//NONSGML v1.0//EN
CALSCALE:GREGORIAN
METHOD:PUBLISH
X-WR-CALNAME:Khoury College of Computer Sciences
X-ORIGINAL-URL:https://www.khoury.northeastern.edu
X-WR-CALDESC:Events for Khoury College of Computer Sciences
REFRESH-INTERVAL;VALUE=DURATION:PT1H
X-Robots-Tag:noindex
X-PUBLISHED-TTL:PT1H
BEGIN:VTIMEZONE
TZID:America/Los_Angeles
BEGIN:DAYLIGHT
TZOFFSETFROM:-0800
TZOFFSETTO:-0700
TZNAME:PDT
DTSTART:20240310T100000
END:DAYLIGHT
BEGIN:STANDARD
TZOFFSETFROM:-0700
TZOFFSETTO:-0800
TZNAME:PST
DTSTART:20241103T090000
END:STANDARD
BEGIN:DAYLIGHT
TZOFFSETFROM:-0800
TZOFFSETTO:-0700
TZNAME:PDT
DTSTART:20250309T100000
END:DAYLIGHT
BEGIN:STANDARD
TZOFFSETFROM:-0700
TZOFFSETTO:-0800
TZNAME:PST
DTSTART:20251102T090000
END:STANDARD
BEGIN:DAYLIGHT
TZOFFSETFROM:-0800
TZOFFSETTO:-0700
TZNAME:PDT
DTSTART:20260308T100000
END:DAYLIGHT
BEGIN:STANDARD
TZOFFSETFROM:-0700
TZOFFSETTO:-0800
TZNAME:PST
DTSTART:20261101T090000
END:STANDARD
END:VTIMEZONE
BEGIN:VEVENT
DTSTART;TZID=America/Los_Angeles:20251218T120000
DTEND;TZID=America/Los_Angeles:20251218T130000
DTSTAMP:20260420T183617
CREATED:20250910T142242Z
LAST-MODIFIED:20251120T195509Z
UID:10006486-1766059200-1766062800@www.khoury.northeastern.edu
SUMMARY:Khoury in California Webinar
DESCRIPTION:Register now\n\n\n\n\nWhat can graduate school offer you? At Khoury College of Computer Sciences\, we believe computer science is for everyone — with the power to make the world a better place. That’s why we design flexible programs\, grounded in rigor\, opportunity\, and experience. It’s why we collaborate with industry and community partners on the technologies that shape our collective future. And it’s why we seek curious thinkers with diverse backgrounds\, because multiple perspectives lead to life-changing discoveries. \n\n\n\nDuring this session\, we will cover key topics: \n\n\n\n\nExplore the master’s programs offered in the Bay Area\n\n\n\nLearn about Northeastern’s #1 ranked co-op program\n\n\n\nHear more about our Bay Area campuses\n\n\n\n\nJoin our virtual session to learn more about the Northeastern University’s Bay Area campuses (Oakland and Silicon Valley)! \n\n\n\nWho should attend \n\n\n\n\nProfessionals from non-tech fields considering a career switch\n\n\n\nStudents from non-computer science disciplines\n\n\n\nAnyone interested in learning about alternative pathways into the tech industry\n\n\n\n\nQuestions? Email Pamela at p.allen@northeastern.edu. \n\n\n\n\nRegister now
URL:https://www.khoury.northeastern.edu/event/khoury-in-california-webinar-4/
CATEGORIES:Recruiting
END:VEVENT
END:VCALENDAR