BEGIN:VCALENDAR
VERSION:2.0
PRODID:-//Khoury College of Computer Sciences - ECPv6.15.20//NONSGML v1.0//EN
CALSCALE:GREGORIAN
METHOD:PUBLISH
X-WR-CALNAME:Khoury College of Computer Sciences
X-ORIGINAL-URL:https://www.khoury.northeastern.edu
X-WR-CALDESC:Events for Khoury College of Computer Sciences
REFRESH-INTERVAL;VALUE=DURATION:PT1H
X-Robots-Tag:noindex
X-PUBLISHED-TTL:PT1H
BEGIN:VTIMEZONE
TZID:America/New_York
BEGIN:DAYLIGHT
TZOFFSETFROM:-0500
TZOFFSETTO:-0400
TZNAME:EDT
DTSTART:20240310T070000
END:DAYLIGHT
BEGIN:STANDARD
TZOFFSETFROM:-0400
TZOFFSETTO:-0500
TZNAME:EST
DTSTART:20241103T060000
END:STANDARD
BEGIN:DAYLIGHT
TZOFFSETFROM:-0500
TZOFFSETTO:-0400
TZNAME:EDT
DTSTART:20250309T070000
END:DAYLIGHT
BEGIN:STANDARD
TZOFFSETFROM:-0400
TZOFFSETTO:-0500
TZNAME:EST
DTSTART:20251102T060000
END:STANDARD
BEGIN:DAYLIGHT
TZOFFSETFROM:-0500
TZOFFSETTO:-0400
TZNAME:EDT
DTSTART:20260308T070000
END:DAYLIGHT
BEGIN:STANDARD
TZOFFSETFROM:-0400
TZOFFSETTO:-0500
TZNAME:EST
DTSTART:20261101T060000
END:STANDARD
END:VTIMEZONE
BEGIN:VEVENT
DTSTART;TZID=America/New_York:20251213T160000
DTEND;TZID=America/New_York:20251213T180000
DTSTAMP:20260423T113949
CREATED:20251205T213749Z
LAST-MODIFIED:20251205T213751Z
UID:10006544-1765641600-1765648800@www.khoury.northeastern.edu
SUMMARY:PhD student/industry discussion: Finding your place in the job market (Boston)
DESCRIPTION:Calling Khoury PhD students! Join us to learn more about how to search for and secure internship and industry research opportunities. \n\n\n\nHear from professionals currently in industry\, learn more about preparing a resume for internships\, and network with industry professionals. Please come prepared with questions.  \n\n\n\n\nRegister now
URL:https://www.khoury.northeastern.edu/event/phd-student-industry-discussion-finding-your-place-in-the-job-market-boston-3/
LOCATION:440 Huntington Ave\, West Village H\, First Floor\, #164\, 440 Huntington Ave.\, Boston\, MA\, 2115\, United States
CATEGORIES:Career help,Networking
GEO:42.3386529;-71.0921979
X-APPLE-STRUCTURED-LOCATION;VALUE=URI;X-ADDRESS=440 Huntington Ave West Village H First Floor #164 440 Huntington Ave. Boston MA 2115 United States;X-APPLE-RADIUS=500;X-TITLE=440 Huntington Ave.:geo:-71.0921979,42.3386529
END:VEVENT
END:VCALENDAR