BEGIN:VCALENDAR
VERSION:2.0
PRODID:-//Khoury College of Computer Sciences - ECPv6.15.20//NONSGML v1.0//EN
CALSCALE:GREGORIAN
METHOD:PUBLISH
X-WR-CALNAME:Khoury College of Computer Sciences
X-ORIGINAL-URL:https://www.khoury.northeastern.edu
X-WR-CALDESC:Events for Khoury College of Computer Sciences
REFRESH-INTERVAL;VALUE=DURATION:PT1H
X-Robots-Tag:noindex
X-PUBLISHED-TTL:PT1H
BEGIN:VTIMEZONE
TZID:America/New_York
BEGIN:DAYLIGHT
TZOFFSETFROM:-0500
TZOFFSETTO:-0400
TZNAME:EDT
DTSTART:20240310T070000
END:DAYLIGHT
BEGIN:STANDARD
TZOFFSETFROM:-0400
TZOFFSETTO:-0500
TZNAME:EST
DTSTART:20241103T060000
END:STANDARD
BEGIN:DAYLIGHT
TZOFFSETFROM:-0500
TZOFFSETTO:-0400
TZNAME:EDT
DTSTART:20250309T070000
END:DAYLIGHT
BEGIN:STANDARD
TZOFFSETFROM:-0400
TZOFFSETTO:-0500
TZNAME:EST
DTSTART:20251102T060000
END:STANDARD
BEGIN:DAYLIGHT
TZOFFSETFROM:-0500
TZOFFSETTO:-0400
TZNAME:EDT
DTSTART:20260308T070000
END:DAYLIGHT
BEGIN:STANDARD
TZOFFSETFROM:-0400
TZOFFSETTO:-0500
TZNAME:EST
DTSTART:20261101T060000
END:STANDARD
END:VTIMEZONE
BEGIN:VEVENT
DTSTART;TZID=America/New_York:20251212T090000
DTEND;TZID=America/New_York:20251212T170000
DTSTAMP:20260423T235623
CREATED:20251203T200020Z
LAST-MODIFIED:20251208T182031Z
UID:10006542-1765530000-1765558800@www.khoury.northeastern.edu
SUMMARY:Northeastern Systems Day
DESCRIPTION:Dear Northeastern Systems Researchers\, \n\n\n\nWe are pleased to announce that Northeastern Systems Day 2025 will take place on December 12\, 2025\, at the Cabral Center located at the John D. O’Bryant African-American Institute at Boston campus. \n\n\n\nNortheastern Systems Day has become a tradition for bringing together researchers actively engaged in computer systems research. The event provides a platform to share ongoing work\, exchange ideas\, and foster collaborations across the systems community. \n\n\n\nWe are soliciting talks about ongoing research in the area of computer systems. We are broadly interested in topics in this space\, including\, but not limited to\, operating systems\, file and storage systems\, distributed systems\, cloud computing\, mobile systems\, reliable systems\, system security\, machine learning systems\, big data systems\, embedded systems\, system virtualization\, and management and troubleshooting of complex systems.
URL:https://www.khoury.northeastern.edu/event/northeastern-systems-day/
LOCATION:The Cabral Center\, 40 Leon Street\, Boston\, Massachusetts\, 02115\, United States
END:VEVENT
BEGIN:VEVENT
DTSTART;TZID=America/New_York:20251212T130000
DTEND;TZID=America/New_York:20251212T140000
DTSTAMP:20260423T235623
CREATED:20250919T194253Z
LAST-MODIFIED:20251120T195509Z
UID:10006497-1765544400-1765548000@www.khoury.northeastern.edu
SUMMARY:Khoury in Miami Webinar
DESCRIPTION:Register now\n\n\n\n\nWhat can graduate school offer you? At Khoury College of Computer Sciences\, we believe computer science is for everyone — with the power to make the world a better place. That’s why we design flexible programs\, grounded in rigor\, opportunity\, and experience. It’s why we collaborate with industry and community partners on the technologies that shape our collective future. And it’s why we seek curious thinkers with diverse backgrounds\, because multiple perspectives lead to life-changing discoveries. \n\n\n\nDuring this session we will cover the key topics: \n\n\n\n\nExplore the master’s programs offered in Miami\n\n\n\nLearn about Northeastern’s #1 ranked co-op program\n\n\n\nHear more about our Miami campus\n\n\n\n\nJoin our virtual session to learn more about the Northeastern University Miami campus in Wynwood! \n\n\n\nWho should attend\n\n\n\n\nProfessionals and students from non-tech fields considering a career switch.\n\n\n\nProfessionals and students with a tech background looking to further their education in computer science.\n\n\n\nAnyone interested in learning about alternative pathways into the tech industry.\n\n\n\n\nQuestions? Email d.rinaldi@northeastern.edu. \n\n\n\n\nRegister now
URL:https://www.khoury.northeastern.edu/event/khoury-in-miami-webinar-8/
LOCATION:VA
CATEGORIES:Recruiting
END:VEVENT
END:VCALENDAR