BEGIN:VCALENDAR
VERSION:2.0
PRODID:-//Khoury College of Computer Sciences - ECPv6.15.20//NONSGML v1.0//EN
CALSCALE:GREGORIAN
METHOD:PUBLISH
X-WR-CALNAME:Khoury College of Computer Sciences
X-ORIGINAL-URL:https://www.khoury.northeastern.edu
X-WR-CALDESC:Events for Khoury College of Computer Sciences
REFRESH-INTERVAL;VALUE=DURATION:PT1H
X-Robots-Tag:noindex
X-PUBLISHED-TTL:PT1H
BEGIN:VTIMEZONE
TZID:America/New_York
BEGIN:DAYLIGHT
TZOFFSETFROM:-0500
TZOFFSETTO:-0400
TZNAME:EDT
DTSTART:20240310T070000
END:DAYLIGHT
BEGIN:STANDARD
TZOFFSETFROM:-0400
TZOFFSETTO:-0500
TZNAME:EST
DTSTART:20241103T060000
END:STANDARD
BEGIN:DAYLIGHT
TZOFFSETFROM:-0500
TZOFFSETTO:-0400
TZNAME:EDT
DTSTART:20250309T070000
END:DAYLIGHT
BEGIN:STANDARD
TZOFFSETFROM:-0400
TZOFFSETTO:-0500
TZNAME:EST
DTSTART:20251102T060000
END:STANDARD
BEGIN:DAYLIGHT
TZOFFSETFROM:-0500
TZOFFSETTO:-0400
TZNAME:EDT
DTSTART:20260308T070000
END:DAYLIGHT
BEGIN:STANDARD
TZOFFSETFROM:-0400
TZOFFSETTO:-0500
TZNAME:EST
DTSTART:20261101T060000
END:STANDARD
END:VTIMEZONE
BEGIN:VEVENT
DTSTART;TZID=America/New_York:20251119T120000
DTEND;TZID=America/New_York:20251119T130000
DTSTAMP:20260423T132507
CREATED:20250509T152452Z
LAST-MODIFIED:20251120T195510Z
UID:10006382-1763553600-1763557200@www.khoury.northeastern.edu
SUMMARY:Prospective Master’s Student Drop-in Session
DESCRIPTION:Register now\n\n\n\n\nAttend a drop-in session to ask any questions you have about your application\, career interest\, personal goals\, next steps\, and more! This informal session is a great opportunity to connect with our enrollment team and our current student ambassadors. Bring your questions\, we have answers! \n\n\n\nDuring this session you will be able to: \n\n\n\n\nHear more about the master’s programs at Khoury\n\n\n\nLearn more about the admissions process including application requirements\n\n\n\nReview deadlines and start terms for Spring and Fall\n\n\n\n\nThis event is virtual. Register today to receive your link to join! \n\n\n\n\nRegister now\n\n\n\n\nQuestions? Email khoury-prospect@northeastern.edu.
URL:https://www.khoury.northeastern.edu/event/prospective-masters-student-drop-in-session-11/
CATEGORIES:Recruiting
END:VEVENT
BEGIN:VEVENT
DTSTART;TZID=America/New_York:20251119T170000
DTEND;TZID=America/New_York:20251119T180000
DTSTAMP:20260423T132507
CREATED:20251107T183750Z
LAST-MODIFIED:20251107T194250Z
UID:10006535-1763571600-1763575200@www.khoury.northeastern.edu
SUMMARY:Dialogue information session: Data and Software in International Government and Politics (Boston campus and virtual)
DESCRIPTION:Join our upcoming information session on Dialogue of Civilizations: Data and Software in International Government and Politics (summer 1) for a detailed overview of the program and to connect with faculty leaders.  \n\n\n\nVisit Data and Software in International Government and Politics’s program page for more information on how to apply.  \n\n\n\n\nJoin via Zoom\n\n\n\n\nOr attend in person (location below)
URL:https://www.khoury.northeastern.edu/event/dialogue-of-civilizations-information-session-data-and-software-in-international-government-and-politics-boston-campus-and-virtual/
LOCATION:Ryder Hall\, Room 159\, 11 Leon St\, Boston\, MA\, 02115\, United States
GEO:42.3365596;-71.0906239
X-APPLE-STRUCTURED-LOCATION;VALUE=URI;X-ADDRESS=Ryder Hall Room 159 11 Leon St Boston MA 02115 United States;X-APPLE-RADIUS=500;X-TITLE=11 Leon St:geo:-71.0906239,42.3365596
END:VEVENT
BEGIN:VEVENT
DTSTART;TZID=America/New_York:20251119T190000
DTEND;TZID=America/New_York:20251119T200000
DTSTAMP:20260423T132507
CREATED:20251110T193021Z
LAST-MODIFIED:20251117T170051Z
UID:10006536-1763578800-1763582400@www.khoury.northeastern.edu
SUMMARY:Co-op professional development webinar: The power of referrals and the return offer conversation
DESCRIPTION:In today’s job market\, referrals and experience at an internship or co-op can be your biggest leads at landing an offer. Join recent alum Zaneer Mitha as he discusses best practices on how to acquire referrals\, as well as steps you can take as a co-op to increase your chances at a full-time position.  \n\n\n\n\nRegistration and Zoom link
URL:https://www.khoury.northeastern.edu/event/co-op-professional-development-webinar-the-return-offer-conversation/
CATEGORIES:Co-op
END:VEVENT
END:VCALENDAR