BEGIN:VCALENDAR
VERSION:2.0
PRODID:-//Khoury College of Computer Sciences - ECPv6.15.20//NONSGML v1.0//EN
CALSCALE:GREGORIAN
METHOD:PUBLISH
X-WR-CALNAME:Khoury College of Computer Sciences
X-ORIGINAL-URL:https://www.khoury.northeastern.edu
X-WR-CALDESC:Events for Khoury College of Computer Sciences
REFRESH-INTERVAL;VALUE=DURATION:PT1H
X-Robots-Tag:noindex
X-PUBLISHED-TTL:PT1H
BEGIN:VTIMEZONE
TZID:America/New_York
BEGIN:DAYLIGHT
TZOFFSETFROM:-0500
TZOFFSETTO:-0400
TZNAME:EDT
DTSTART:20240310T070000
END:DAYLIGHT
BEGIN:STANDARD
TZOFFSETFROM:-0400
TZOFFSETTO:-0500
TZNAME:EST
DTSTART:20241103T060000
END:STANDARD
BEGIN:DAYLIGHT
TZOFFSETFROM:-0500
TZOFFSETTO:-0400
TZNAME:EDT
DTSTART:20250309T070000
END:DAYLIGHT
BEGIN:STANDARD
TZOFFSETFROM:-0400
TZOFFSETTO:-0500
TZNAME:EST
DTSTART:20251102T060000
END:STANDARD
BEGIN:DAYLIGHT
TZOFFSETFROM:-0500
TZOFFSETTO:-0400
TZNAME:EDT
DTSTART:20260308T070000
END:DAYLIGHT
BEGIN:STANDARD
TZOFFSETFROM:-0400
TZOFFSETTO:-0500
TZNAME:EST
DTSTART:20261101T060000
END:STANDARD
END:VTIMEZONE
BEGIN:VTIMEZONE
TZID:America/Los_Angeles
BEGIN:DAYLIGHT
TZOFFSETFROM:-0800
TZOFFSETTO:-0700
TZNAME:PDT
DTSTART:20240310T100000
END:DAYLIGHT
BEGIN:STANDARD
TZOFFSETFROM:-0700
TZOFFSETTO:-0800
TZNAME:PST
DTSTART:20241103T090000
END:STANDARD
BEGIN:DAYLIGHT
TZOFFSETFROM:-0800
TZOFFSETTO:-0700
TZNAME:PDT
DTSTART:20250309T100000
END:DAYLIGHT
BEGIN:STANDARD
TZOFFSETFROM:-0700
TZOFFSETTO:-0800
TZNAME:PST
DTSTART:20251102T090000
END:STANDARD
BEGIN:DAYLIGHT
TZOFFSETFROM:-0800
TZOFFSETTO:-0700
TZNAME:PDT
DTSTART:20260308T100000
END:DAYLIGHT
BEGIN:STANDARD
TZOFFSETFROM:-0700
TZOFFSETTO:-0800
TZNAME:PST
DTSTART:20261101T090000
END:STANDARD
END:VTIMEZONE
BEGIN:VEVENT
DTSTART;TZID=America/New_York:20251118T120000
DTEND;TZID=America/New_York:20251118T124500
DTSTAMP:20260420T040854
CREATED:20251106T220353Z
LAST-MODIFIED:20251114T181521Z
UID:10006532-1763467200-1763469900@www.khoury.northeastern.edu
SUMMARY:Khoury Bridge - Fireside Chat with Rishav Sarma '25 and Arhat Shah '25.
DESCRIPTION:Khoury class of 2026\, where do you want to be a year from now? \n\n\n\nFull-time job searching is hard\, and networks are key. Join our upcoming Fireside Chat with former CS1210 TAs and 2025 Khoury graduates Rishav Sarma (now at UKG) and Arhat Shah (now at Chewy) to learn how to maximize your last semester on campus\, what’s worked for them as new graduates\, and how your Khoury community can add a crucial edge in early career.  \n\n\n\nTo access the virtual event\, join our student/alumni Discord channel (sign-up required).
URL:https://www.khoury.northeastern.edu/event/khoury-bridge-fireside-chat-with-rishav-sarma-25-and-arhat-shah-25/
END:VEVENT
BEGIN:VEVENT
DTSTART;TZID=America/Los_Angeles:20251118T120000
DTEND;TZID=America/Los_Angeles:20251118T130000
DTSTAMP:20260420T040854
CREATED:20250429T150242Z
LAST-MODIFIED:20251120T200835Z
UID:10006377-1763467200-1763470800@www.khoury.northeastern.edu
SUMMARY:Khoury in Seattle Webinar
DESCRIPTION:Register now\n\n\n\n\nWhat can graduate school offer you? At Khoury College of Computer Sciences\, we believe computer science is for every-one — with the power to make the world a better place. That’s why we design flexible programs\, grounded in rigor\, opportunity\, and experience. It’s why we collaborate with industry and community partners on the technologies that shape our collec-tive future. And it’s why we seek curious thinkers with diverse backgrounds\, because multiple perspectives lead to life-changing discoveries. \n\n\n\nDuring this session we will cover the key topics \n\n\n\n\nExplore the master’s programs offered in Seattle\n\n\n\nLearn about Northeastern’s #1 ranked co-op program\n\n\n\nHear more about our Seattle campus\n\n\n\n\nJoin our virtual session to learn more about the Northeastern University Seattle campus! \n\n\n\nWho Should Attend \n\n\n\n\nProfessionals from non-tech fields considering a career switch\n\n\n\nStudents from non-computer science disciplines\n\n\n\nAnyone interested in learning about alternative pathways into the tech industry\n\n\n\n\nQuestions? Email Tim at t.greer@northeastern.edu. \n\n\n\n\nRegister now
URL:https://www.khoury.northeastern.edu/event/khoury-in-seattle-webinar-9/
CATEGORIES:Recruiting
END:VEVENT
BEGIN:VEVENT
DTSTART;TZID=America/Los_Angeles:20251118T120000
DTEND;TZID=America/Los_Angeles:20251118T130000
DTSTAMP:20260420T040854
CREATED:20250905T142725Z
LAST-MODIFIED:20251120T200835Z
UID:10006483-1763467200-1763470800@www.khoury.northeastern.edu
SUMMARY:Tech Graduate Pathways in Canada: CS\, AI\, and beyond (virtual)
DESCRIPTION:Register now\n\n\n\n\nCanada’s premiere coastal tech hub: Vancouver is the perfect place to pursue your CS degree\n\n\n\nNortheastern University is a global network offering industry-aligned graduate programs grounded in experiential learning\, and research partnership opportunities to help you gain in-demand skills\, experience\, and connections to advance your career. \n\n\n\nNortheastern Vancouver provides small-group\, project-based learning at a cutting-edge campus surrounded by engaged industry partners excited to collaborate. On-site partner companies and faculty labs provide projects and opportunities directly to students. A unique research-based curriculum and capstone course provide real-world applications of classroom learning. Learn how you can embark on or further your computer science journey. \n\n\n\nDuring this session\, we will cover key topics: \n\n\n\n\nHear from MS in Artificial Intelligence (MSAI) Program Director and Associate Teaching Professor\, Lino Coria Mendoza\, on the master degree programs offered in Vancouver \n\nFor almost a decade\, Professor Mendoza was an engineer at several Vancouver startups where he developed computer vision algorithms and machine learning models for a variety of applications\, including online video and metadata optimization\, custom footwear design\, and agricultural technology. His research interests are image processing and computer vision applications. \n\n\n\n\n\nLearn about Northeastern’s #1 ranked co-op program\n\n\n\nJoin our virtual session to learn more about the Northeastern University Vancouver campus in Vancouver\, BC\n\n\n\n\nWho should attend \n\n\n\n\nProfessionals from non-tech fields considering a career switch\n\n\n\nStudents from non-computer science disciplines\n\n\n\nAnyone interested in learning about alternative pathways into the tech industry\n\n\n\n\nQuestions? Email Dom Rinaldi at d.rinaldi@northeastern.edu. \n\n\n\n\nRegister now
URL:https://www.khoury.northeastern.edu/event/tech-graduate-pathways-in-canada-cs-ai-and-beyond-virtual-3/
CATEGORIES:Recruiting
END:VEVENT
BEGIN:VEVENT
DTSTART;TZID=America/Los_Angeles:20251118T170000
DTEND;TZID=America/Los_Angeles:20251118T190000
DTSTAMP:20260420T040854
CREATED:20250910T144057Z
LAST-MODIFIED:20251120T200835Z
UID:10006488-1763485200-1763492400@www.khoury.northeastern.edu
SUMMARY:Break Into Tech Social: Seattle
DESCRIPTION:Register now\n\n\n\n\nMeet us for a Break into Tech social to learn how 1200+ students with no computer science background have started new careers in tech. \n\n\n\nOur Align Master’s program brings together creative thinkers from every background to learn computer science\, data science\, and cybersecurity for the very first time. \n\n\n\nJoin us for appetizers at our next Break into Tech social at Ba Bar University Village (map below) to learn more about the Align Master’s program at Northeastern University. \n\n\n\nPlease note: Participants must hold a bachelor’s degree or be nearing college graduation to participate. \n\n\n\nQuestions? Email t.greer@northeastern.edu \n\n\n\n\nRegister now
URL:https://www.khoury.northeastern.edu/event/break-into-tech-social-ba-bar-in-u-village-seattle-wa-2/
LOCATION:Ba Bar University Village\, 2685 NE 46th St\, Seattle\, WA\, 98105\, United States
CATEGORIES:Recruiting
END:VEVENT
BEGIN:VEVENT
DTSTART;TZID=America/New_York:20251118T180000
DTEND;TZID=America/New_York:20251118T193000
DTSTAMP:20260420T040854
CREATED:20250815T191450Z
LAST-MODIFIED:20251120T200834Z
UID:10006477-1763488800-1763494200@www.khoury.northeastern.edu
SUMMARY:Break Into Tech: Arlington
DESCRIPTION:Register now\n\n\n\n\nYour future in tech starts here — join us for an upcoming event\n\n\n\nBreak Into Tech: No experience required\n\n\n\nYou don’t need a background in tech to have a future in it. All you need is curiosity — and opportunity. Join other curious students and professionals with no tech background to learn about flexible pathways to a master’s degree in computer science\, data science\, and cybersecurity\, online and in person. \n\n\n\nFind your pathway into tech\n\n\n\nAttend a Break Into Tech event to: \n\n\n\n\nGet insights into the latest challenges in computer science\, data science\, or cybersecurity —and how you might solve them.\n\n\n\nDiscover how your unique background can lead to a future in tech with Align Master’s programs.\n\n\n\nDiscover the different pathways you can take to build a successful career in tech.\n\n\n\n\nPlease note: Participants must hold a bachelor’s degree or be nearing college graduation to participate. \n\n\n\nBreak Into Tech is for everyone\n\n\n\n\n150+ different disciplines\n\n\n\nStudents of Align master’s programs come from all backgrounds\n\n\n\n\nAbout the Align Master of Science\n\n\n\nAlign is a 2.5-year program in computer science\, data science\, or cybersecurity that provides a flexible pathway to a master’s degree for motivated students and professionals holding a bachelor’s in any discipline. \n\n\n\nYour experience matters — help shape the future of tech\n\n\n\n\n\n\nAfter my undergraduate studies\, I worked as a corporate finance analyst in a two-year rotational program at a bulge bracket investment bank. I gained business management and financial analysis skills. I did not enjoy working with the legacy database systems at this bank. This frustration was one of my introductions to tech. … I am getting a graduate degree in computer science to understand the technicalities of building software applications and become a well-rounded product manager. Luckily\, I found the Align CS program to help with the transition\, especially since I had little programming experience. … I see an entrepreneurial future in merging my love for music\, sports\, and personal finance with some tech solutions. I look forward to growing as a computer scientist and working on cool projects \n—Princewill\, Align MSCS ’25 BS Economics\n\n\n\n\n\n\n\n\n\n\n\nQuestions? Please email Khoury-prospect@northeastern.edu \n\n\n\n\nRegister now
URL:https://www.khoury.northeastern.edu/event/break-into-tech-arlington/
LOCATION:Northeastern University Arlington (Arlington Tower)\, 1300 17th Street North (#1504)\, Arlington\, Virginia\, 22209\, United States
CATEGORIES:Recruiting
END:VEVENT
END:VCALENDAR