BEGIN:VCALENDAR
VERSION:2.0
PRODID:-//Khoury College of Computer Sciences - ECPv6.15.20//NONSGML v1.0//EN
CALSCALE:GREGORIAN
METHOD:PUBLISH
X-WR-CALNAME:Khoury College of Computer Sciences
X-ORIGINAL-URL:https://www.khoury.northeastern.edu
X-WR-CALDESC:Events for Khoury College of Computer Sciences
REFRESH-INTERVAL;VALUE=DURATION:PT1H
X-Robots-Tag:noindex
X-PUBLISHED-TTL:PT1H
BEGIN:VTIMEZONE
TZID:America/New_York
BEGIN:DAYLIGHT
TZOFFSETFROM:-0500
TZOFFSETTO:-0400
TZNAME:EDT
DTSTART:20240310T070000
END:DAYLIGHT
BEGIN:STANDARD
TZOFFSETFROM:-0400
TZOFFSETTO:-0500
TZNAME:EST
DTSTART:20241103T060000
END:STANDARD
BEGIN:DAYLIGHT
TZOFFSETFROM:-0500
TZOFFSETTO:-0400
TZNAME:EDT
DTSTART:20250309T070000
END:DAYLIGHT
BEGIN:STANDARD
TZOFFSETFROM:-0400
TZOFFSETTO:-0500
TZNAME:EST
DTSTART:20251102T060000
END:STANDARD
BEGIN:DAYLIGHT
TZOFFSETFROM:-0500
TZOFFSETTO:-0400
TZNAME:EDT
DTSTART:20260308T070000
END:DAYLIGHT
BEGIN:STANDARD
TZOFFSETFROM:-0400
TZOFFSETTO:-0500
TZNAME:EST
DTSTART:20261101T060000
END:STANDARD
END:VTIMEZONE
BEGIN:VTIMEZONE
TZID:America/Los_Angeles
BEGIN:DAYLIGHT
TZOFFSETFROM:-0800
TZOFFSETTO:-0700
TZNAME:PDT
DTSTART:20240310T100000
END:DAYLIGHT
BEGIN:STANDARD
TZOFFSETFROM:-0700
TZOFFSETTO:-0800
TZNAME:PST
DTSTART:20241103T090000
END:STANDARD
BEGIN:DAYLIGHT
TZOFFSETFROM:-0800
TZOFFSETTO:-0700
TZNAME:PDT
DTSTART:20250309T100000
END:DAYLIGHT
BEGIN:STANDARD
TZOFFSETFROM:-0700
TZOFFSETTO:-0800
TZNAME:PST
DTSTART:20251102T090000
END:STANDARD
BEGIN:DAYLIGHT
TZOFFSETFROM:-0800
TZOFFSETTO:-0700
TZNAME:PDT
DTSTART:20260308T100000
END:DAYLIGHT
BEGIN:STANDARD
TZOFFSETFROM:-0700
TZOFFSETTO:-0800
TZNAME:PST
DTSTART:20261101T090000
END:STANDARD
END:VTIMEZONE
BEGIN:VEVENT
DTSTART;TZID=America/New_York:20251105T120000
DTEND;TZID=America/New_York:20251105T130000
DTSTAMP:20260423T130736
CREATED:20250919T194638Z
LAST-MODIFIED:20251120T201200Z
UID:10006499-1762344000-1762347600@www.khoury.northeastern.edu
SUMMARY:Align in Miami Webinar
DESCRIPTION:Register now\n\n\n\n\nAre you interested in tech but don’t have a tech background? This information session will show you how to bridge the gap for people without a tech background to earn a master’s degree\, in as little as 2.5 years\, and enter the tech industry successfully. \n\n\n\nWho should attend\n\n\n\n\nProfessionals from non-tech fields considering a career switch\n\n\n\nStudents from non-computer science disciplines\n\n\n\nAnyone interested in learning about alternative pathways into the tech industry\n\n\n\n\nOur students come from a variety of backgrounds\, with undergraduate majors ranging from math and biology to history and journalism. During this session we will cover key topics that include: \n\n\n\n\nAlign master’s program\n\n\n\nNortheastern’s #1 ranked co-op program\n\n\n\nStudent success stories\n\n\n\nInformation about the Miami campus\n\n\n\n\n\nRegister now
URL:https://www.khoury.northeastern.edu/event/align-in-miami-webinar-7/
CATEGORIES:Recruiting
END:VEVENT
BEGIN:VEVENT
DTSTART;TZID=America/New_York:20251105T120000
DTEND;TZID=America/New_York:20251105T130000
DTSTAMP:20260423T130736
CREATED:20251015T205351Z
LAST-MODIFIED:20251030T172952Z
UID:10006518-1762344000-1762347600@www.khoury.northeastern.edu
SUMMARY:Spring registration information session (virtual)
DESCRIPTION:Khoury Undergraduate Advising is hosting a Spring 2026 registration info session to discuss the registration process\, how to triage and troubleshoot any issues that may arise\, and recommendations for classes. We end with a Q&A session at the end for students to ask questions. \n\n\n\n\nJoin the Zoom meeting\n\n\n\n\nQuestions? Reach out to the undergraduate advising team: \n\n\n\n\nL. Boco\n\n\n\nBridie Mager\n\n\n\nHeather Wise
URL:https://www.khoury.northeastern.edu/event/spring-registration-information-session/
CATEGORIES:Advising
END:VEVENT
BEGIN:VEVENT
DTSTART;TZID=America/New_York:20251105T160000
DTEND;TZID=America/New_York:20251105T170000
DTSTAMP:20260423T130736
CREATED:20250930T144007Z
LAST-MODIFIED:20251120T201314Z
UID:10006510-1762358400-1762362000@www.khoury.northeastern.edu
SUMMARY:Tech Track: Dedicated support and services – learn from your peers (virtual)
DESCRIPTION:Register now\n\n\n\n\nDuring this event\, we will explore the various resources and support provided by Khoury College to help ensure your success throughout your academic journey and future career. Students will also share their experiences and insights about the resources they’ve used while navigating the program. \n\n\n\nWho should attend \n\n\n\n\n Anyone interested in furthering their education with a master’s in computer science degree. Must hold a bachelor’s degree in computer science.\n\n\n\n Anyone interested in entering the tech industry without a background or education in computer science. \n\n\n\n\nQuestions? Email khoury-prospect@northeastern.edu. \n\n\n\nLearn more about Khoury College’s graduate student ambassador team. \n\n\n\n\nRegister now
URL:https://www.khoury.northeastern.edu/event/tech-track-dedicated-support-and-services-hear-from-your-peer/
CATEGORIES:Recruiting
END:VEVENT
BEGIN:VEVENT
DTSTART;TZID=America/Los_Angeles:20251105T183000
DTEND;TZID=America/Los_Angeles:20251105T200000
DTSTAMP:20260423T130736
CREATED:20250815T164659Z
LAST-MODIFIED:20251120T201159Z
UID:10006474-1762367400-1762372800@www.khoury.northeastern.edu
SUMMARY:Break Into Tech: Los Angeles
DESCRIPTION:Register now\n\n\n\n\nYour future in tech starts here — join us for an upcoming event\n\n\n\nBreak Into Tech: No experience required\n\n\n\nYou don’t need a background in tech to have a future in it. All you need is curiosity — and opportunity. Join other curious students and professionals with no tech background to learn about flexible pathways to a master’s degree in computer science\, data science\, and cybersecurity\, online and in person. \n\n\n\nFind your pathway into tech\n\n\n\nAttend a Break Into Tech event to: \n\n\n\n\nGet insights into the latest challenges in computer science\, data science\, or cybersecurity —and how you might solve them.\n\n\n\nDiscover how your unique background can lead to a future in tech with Align Master’s programs.\n\n\n\nDiscover the different pathways you can take to build a successful career in tech.\n\n\n\n\nPlease note: Participants must hold a bachelor’s degree or be nearing college graduation to participate. \n\n\n\nBreak Into Tech is for everyone\n\n\n\n\n150+ different disciplines\n\n\n\nStudents of Align master’s programs come from all backgrounds\n\n\n\n\nAbout the Align Master of Science\n\n\n\nAlign is a 2.5-year program in computer science\, data science\, or cybersecurity that provides a flexible pathway to a master’s degree for motivated students and professionals holding a bachelor’s in any discipline. \n\n\n\nYour experience matters — help shape the future of tech\n\n\n\n\n\n\nAfter my undergraduate studies\, I worked as a corporate finance analyst in a two-year rotational program at a bulge bracket investment bank. I gained business management and financial analysis skills. I did not enjoy working with the legacy database systems at this bank. This frustration was one of my introductions to tech. … I am getting a graduate degree in computer science to understand the technicalities of building software applications and become a well-rounded product manager. Luckily\, I found the Align CS program to help with the transition\, especially since I had little programming experience. … I see an entrepreneurial future in merging my love for music\, sports\, and personal finance with some tech solutions. I look forward to growing as a computer scientist and working on cool projects \n—Princewill\, Align MSCS ’25 BS Economics\n\n\n\n\n\n\n\n\n\n\n\nQuestions? Please email Khoury-prospect@northeastern.edu \n\n\n\n\nRegister now
URL:https://www.khoury.northeastern.edu/event/break-into-tech-los-angeles/
LOCATION:UCLA Career Center\, 501 Westwood Plaza\, Los Angeles\, California\, 90095\, United States
CATEGORIES:Recruiting
END:VEVENT
END:VCALENDAR