BEGIN:VCALENDAR
VERSION:2.0
PRODID:-//Khoury College of Computer Sciences - ECPv6.15.20//NONSGML v1.0//EN
CALSCALE:GREGORIAN
METHOD:PUBLISH
X-WR-CALNAME:Khoury College of Computer Sciences
X-ORIGINAL-URL:https://www.khoury.northeastern.edu
X-WR-CALDESC:Events for Khoury College of Computer Sciences
REFRESH-INTERVAL;VALUE=DURATION:PT1H
X-Robots-Tag:noindex
X-PUBLISHED-TTL:PT1H
BEGIN:VTIMEZONE
TZID:America/New_York
BEGIN:DAYLIGHT
TZOFFSETFROM:-0500
TZOFFSETTO:-0400
TZNAME:EDT
DTSTART:20240310T070000
END:DAYLIGHT
BEGIN:STANDARD
TZOFFSETFROM:-0400
TZOFFSETTO:-0500
TZNAME:EST
DTSTART:20241103T060000
END:STANDARD
BEGIN:DAYLIGHT
TZOFFSETFROM:-0500
TZOFFSETTO:-0400
TZNAME:EDT
DTSTART:20250309T070000
END:DAYLIGHT
BEGIN:STANDARD
TZOFFSETFROM:-0400
TZOFFSETTO:-0500
TZNAME:EST
DTSTART:20251102T060000
END:STANDARD
BEGIN:DAYLIGHT
TZOFFSETFROM:-0500
TZOFFSETTO:-0400
TZNAME:EDT
DTSTART:20260308T070000
END:DAYLIGHT
BEGIN:STANDARD
TZOFFSETFROM:-0400
TZOFFSETTO:-0500
TZNAME:EST
DTSTART:20261101T060000
END:STANDARD
END:VTIMEZONE
BEGIN:VTIMEZONE
TZID:America/Los_Angeles
BEGIN:DAYLIGHT
TZOFFSETFROM:-0800
TZOFFSETTO:-0700
TZNAME:PDT
DTSTART:20240310T100000
END:DAYLIGHT
BEGIN:STANDARD
TZOFFSETFROM:-0700
TZOFFSETTO:-0800
TZNAME:PST
DTSTART:20241103T090000
END:STANDARD
BEGIN:DAYLIGHT
TZOFFSETFROM:-0800
TZOFFSETTO:-0700
TZNAME:PDT
DTSTART:20250309T100000
END:DAYLIGHT
BEGIN:STANDARD
TZOFFSETFROM:-0700
TZOFFSETTO:-0800
TZNAME:PST
DTSTART:20251102T090000
END:STANDARD
BEGIN:DAYLIGHT
TZOFFSETFROM:-0800
TZOFFSETTO:-0700
TZNAME:PDT
DTSTART:20260308T100000
END:DAYLIGHT
BEGIN:STANDARD
TZOFFSETFROM:-0700
TZOFFSETTO:-0800
TZNAME:PST
DTSTART:20261101T090000
END:STANDARD
END:VTIMEZONE
BEGIN:VEVENT
DTSTART;TZID=America/New_York:20251029T120000
DTEND;TZID=America/New_York:20251029T140000
DTSTAMP:20260423T081931
CREATED:20251016T193315Z
LAST-MODIFIED:20251124T145048Z
UID:10006520-1761739200-1761746400@www.khoury.northeastern.edu
SUMMARY:Walk Wynwood with Northeastern University (Miami)
DESCRIPTION:Register now \n\n\n\n\nNortheastern University in Miami is located in the city’s Wynwood neighborhood\, and we invite you to join Khoury College of Computer Sciences graduate students for a walk around the area! From the world’s largest street art museum to a rich\, Cuban Latin culture and an active nightlife\, Wynwood is a buzzing spot to be part of the booming tech sector of Miami.   \n\n\n\nTake this opportunity to walk Wynwood to gain insight into the student perspective\, and consider how you can use computer science to create your own art or align your passion with CS.   \n\n\n\n\nRegister now \n\n\n\n\nPlease note: Participants must hold a bachelor’s degree or be nearing college graduation to participate. A background in tech is not required. \n\n\n\nQuestions? Email d.rinaldi@northeastern.edu.
URL:https://www.khoury.northeastern.edu/event/walk-wynwood-with-northeastern-university/
LOCATION:Northeastern University in Miami\, 230 NW 24th St\, Miami\, Florida\, 33127\, United States
CATEGORIES:Recruiting
END:VEVENT
BEGIN:VEVENT
DTSTART;TZID=America/New_York:20251029T160000
DTEND;TZID=America/New_York:20251029T180000
DTSTAMP:20260423T081931
CREATED:20251015T193522Z
LAST-MODIFIED:20251124T145118Z
UID:10006517-1761753600-1761760800@www.khoury.northeastern.edu
SUMMARY:Panel discussion: What’s Out There After Your MSCY?
DESCRIPTION:Register now\n\n\n\n\n \n\n\n\nWe welcome you to join our alumni panel and networking event to learn from recent graduates about their real-world experiences and job-search insights. \n\n\n\nWhy attend: \n\n\n\n\nHear how alumni landed roles in leading cybersecurity organizations\n\n\n\nLearn strategies for internships\, co-ops\, and full-time opportunities\n\n\n\nExplore cybersecurity subfields and how course choices align with each path\n\n\n\nAsk questions directly during the open Q&A\n\n\n\n\nPanelists\n\n\n\nKaushik Vaida\, senior software engineer\, Akamai Technologies \n\n\n\nKaushik works on platform and supply chain security\, as well as vulnerability management. He previously worked at Deloitte and PwC and is active in the security community through CTFs\, bug bounty programs\, and industry conferences. \n\n\n\nBen Leiden\, security consultant\, Rapid7 \n\n\n\nBen has extensive experience in penetration testing\, network and application security\, and client risk remediation. His work focuses on helping organizations strengthen their security posture through practical assessments. \n\n\n\nChaya Lakshmipathy\, cybersecurity engineer\, Staples \n\n\n\nChaya specializes in vulnerability management and API security. She has prior experience in penetration testing and infrastructure security\, and a strong foundation in OWASP and SANS standards. She also served as a graduate teaching assistant at Northeastern. \n\n\n\nLocation: West Village H Room 102
URL:https://www.khoury.northeastern.edu/event/masters-in-cybersecurity-event/
LOCATION:West Village H\, 440 Huntington Ave.\, Boston\, MA\, 02115\, United States
CATEGORIES:Career help,Networking
GEO:42.3385378;-71.0922948
X-APPLE-STRUCTURED-LOCATION;VALUE=URI;X-ADDRESS=West Village H 440 Huntington Ave. Boston MA 02115 United States;X-APPLE-RADIUS=500;X-TITLE=440 Huntington Ave.:geo:-71.0922948,42.3385378
END:VEVENT
BEGIN:VEVENT
DTSTART;TZID=America/Los_Angeles:20251029T180000
DTEND;TZID=America/Los_Angeles:20251029T193000
DTSTAMP:20260423T081931
CREATED:20250815T171528Z
LAST-MODIFIED:20251124T145144Z
UID:10006475-1761760800-1761766200@www.khoury.northeastern.edu
SUMMARY:Break Into Tech: San Diego
DESCRIPTION:Register now\n\n\n\n\nYour future in tech starts here — join us for an upcoming event\n\n\n\nBreak Into Tech: No experience required\n\n\n\nYou don’t need a background in tech to have a future in it. All you need is curiosity — and opportunity. Join other curious students and professionals with no tech background to learn about flexible pathways to a master’s degree in computer science\, data science\, and cybersecurity\, online and in person. \n\n\n\nFind your pathway into tech\n\n\n\nAttend a Break Into Tech event to: \n\n\n\n\nGet insights into the latest challenges in computer science\, data science\, or cybersecurity —and how you might solve them.\n\n\n\nDiscover how your unique background can lead to a future in tech with Align Master’s programs.\n\n\n\nDiscover the different pathways you can take to build a successful career in tech.\n\n\n\n\nPlease note: Participants must hold a bachelor’s degree or be nearing college graduation to participate. \n\n\n\nBreak Into Tech is for everyone\n\n\n\n\n150+ different disciplines\n\n\n\nStudents of Align master’s programs come from all backgrounds\n\n\n\n\nAbout the Align Master of Science\n\n\n\nAlign is a 2.5-year program in computer science\, data science\, or cybersecurity that provides a flexible pathway to a master’s degree for motivated students and professionals holding a bachelor’s in any discipline. \n\n\n\nYour experience matters — help shape the future of tech\n\n\n\n\n\n\nAfter my undergraduate studies\, I worked as a corporate finance analyst in a two-year rotational program at a bulge bracket investment bank. I gained business management and financial analysis skills. I did not enjoy working with the legacy database systems at this bank. This frustration was one of my introductions to tech. … I am getting a graduate degree in computer science to understand the technicalities of building software applications and become a well-rounded product manager. Luckily\, I found the Align CS program to help with the transition\, especially since I had little programming experience. … I see an entrepreneurial future in merging my love for music\, sports\, and personal finance with some tech solutions. I look forward to growing as a computer scientist and working on cool projects \n—Princewill\, Align MSCS ’25 BS Economics\n\n\n\n\n\n\n\n\n\n\n\nQuestions? Please email Khoury-prospect@northeastern.edu \n\n\n\n\nRegister now
URL:https://www.khoury.northeastern.edu/event/break-into-tech-san-diego/
LOCATION:UC San Diego\, 9500 Gilman Dr\, La Jolla\, California\, 92093\, United States
CATEGORIES:Recruiting
END:VEVENT
END:VCALENDAR