BEGIN:VCALENDAR
VERSION:2.0
PRODID:-//Khoury College of Computer Sciences - ECPv6.15.20//NONSGML v1.0//EN
CALSCALE:GREGORIAN
METHOD:PUBLISH
X-WR-CALNAME:Khoury College of Computer Sciences
X-ORIGINAL-URL:https://www.khoury.northeastern.edu
X-WR-CALDESC:Events for Khoury College of Computer Sciences
REFRESH-INTERVAL;VALUE=DURATION:PT1H
X-Robots-Tag:noindex
X-PUBLISHED-TTL:PT1H
BEGIN:VTIMEZONE
TZID:America/New_York
BEGIN:DAYLIGHT
TZOFFSETFROM:-0500
TZOFFSETTO:-0400
TZNAME:EDT
DTSTART:20240310T070000
END:DAYLIGHT
BEGIN:STANDARD
TZOFFSETFROM:-0400
TZOFFSETTO:-0500
TZNAME:EST
DTSTART:20241103T060000
END:STANDARD
BEGIN:DAYLIGHT
TZOFFSETFROM:-0500
TZOFFSETTO:-0400
TZNAME:EDT
DTSTART:20250309T070000
END:DAYLIGHT
BEGIN:STANDARD
TZOFFSETFROM:-0400
TZOFFSETTO:-0500
TZNAME:EST
DTSTART:20251102T060000
END:STANDARD
BEGIN:DAYLIGHT
TZOFFSETFROM:-0500
TZOFFSETTO:-0400
TZNAME:EDT
DTSTART:20260308T070000
END:DAYLIGHT
BEGIN:STANDARD
TZOFFSETFROM:-0400
TZOFFSETTO:-0500
TZNAME:EST
DTSTART:20261101T060000
END:STANDARD
END:VTIMEZONE
BEGIN:VEVENT
DTSTART;TZID=America/New_York:20251028T170000
DTEND;TZID=America/New_York:20251028T173000
DTSTAMP:20260423T200235
CREATED:20251021T195205Z
LAST-MODIFIED:20251124T145021Z
UID:10006522-1761670800-1761672600@www.khoury.northeastern.edu
SUMMARY:Lightning Talk Series: Building an Android Chess App – From Class Project to Interactive Game (virtual)
DESCRIPTION:Register now\n\n\n\n\nKhoury Sparks: A Lightning Talk Series is an engaging\, high-impact\, 20-minute talk series that connects prospective graduate students with Khoury faculty and current graduate students. Khoury Sparks showcases cutting-edge research\, applied projects\, and teaching innovations — highlighting how graduate study at Khoury College is exciting\, attainable\, and deeply connected to the needs of today’s tech industry. \n\n\n\nIn Building an Android Chess App – From Class Project to Interactive Game\, presenter Justin Pak will discuss how as part of a hands-on mobile development course\, he created a fully functional Android chess app that brings the classic game to life on a phone. Players can compete against a friend or challenge the computer using a custom-built engine. To make the app even more engaging\, he integrated Stockfish\, a powerful chess tool\, so users can review their games and see how to improve. This project gave Justin the chance to work on everything from game logic to front-end design\, showing how a class project can grow into a complete\, interactive app. \n\n\n\nJoin this talk for a peek behind the code—see how a class project leveled up into a full Android chess game! \n\n\n\n\nRegister now\n\n\n\n\nQuestions? Email m.barton@northeastern.edu.
URL:https://www.khoury.northeastern.edu/event/building-an-android-chess-app-from-class-project-to-interactive-game/
LOCATION:VA
CATEGORIES:Recruiting
END:VEVENT
END:VCALENDAR