BEGIN:VCALENDAR
VERSION:2.0
PRODID:-//Khoury College of Computer Sciences - ECPv6.15.20//NONSGML v1.0//EN
CALSCALE:GREGORIAN
METHOD:PUBLISH
X-WR-CALNAME:Khoury College of Computer Sciences
X-ORIGINAL-URL:https://www.khoury.northeastern.edu
X-WR-CALDESC:Events for Khoury College of Computer Sciences
REFRESH-INTERVAL;VALUE=DURATION:PT1H
X-Robots-Tag:noindex
X-PUBLISHED-TTL:PT1H
BEGIN:VTIMEZONE
TZID:America/New_York
BEGIN:DAYLIGHT
TZOFFSETFROM:-0500
TZOFFSETTO:-0400
TZNAME:EDT
DTSTART:20240310T070000
END:DAYLIGHT
BEGIN:STANDARD
TZOFFSETFROM:-0400
TZOFFSETTO:-0500
TZNAME:EST
DTSTART:20241103T060000
END:STANDARD
BEGIN:DAYLIGHT
TZOFFSETFROM:-0500
TZOFFSETTO:-0400
TZNAME:EDT
DTSTART:20250309T070000
END:DAYLIGHT
BEGIN:STANDARD
TZOFFSETFROM:-0400
TZOFFSETTO:-0500
TZNAME:EST
DTSTART:20251102T060000
END:STANDARD
BEGIN:DAYLIGHT
TZOFFSETFROM:-0500
TZOFFSETTO:-0400
TZNAME:EDT
DTSTART:20260308T070000
END:DAYLIGHT
BEGIN:STANDARD
TZOFFSETFROM:-0400
TZOFFSETTO:-0500
TZNAME:EST
DTSTART:20261101T060000
END:STANDARD
END:VTIMEZONE
BEGIN:VTIMEZONE
TZID:America/Los_Angeles
BEGIN:DAYLIGHT
TZOFFSETFROM:-0800
TZOFFSETTO:-0700
TZNAME:PDT
DTSTART:20240310T100000
END:DAYLIGHT
BEGIN:STANDARD
TZOFFSETFROM:-0700
TZOFFSETTO:-0800
TZNAME:PST
DTSTART:20241103T090000
END:STANDARD
BEGIN:DAYLIGHT
TZOFFSETFROM:-0800
TZOFFSETTO:-0700
TZNAME:PDT
DTSTART:20250309T100000
END:DAYLIGHT
BEGIN:STANDARD
TZOFFSETFROM:-0700
TZOFFSETTO:-0800
TZNAME:PST
DTSTART:20251102T090000
END:STANDARD
BEGIN:DAYLIGHT
TZOFFSETFROM:-0800
TZOFFSETTO:-0700
TZNAME:PDT
DTSTART:20260308T100000
END:DAYLIGHT
BEGIN:STANDARD
TZOFFSETFROM:-0700
TZOFFSETTO:-0800
TZNAME:PST
DTSTART:20261101T090000
END:STANDARD
END:VTIMEZONE
BEGIN:VEVENT
DTSTART;TZID=America/New_York:20251015T120000
DTEND;TZID=America/New_York:20251015T130000
DTSTAMP:20260423T152011
CREATED:20250509T152313Z
LAST-MODIFIED:20251009T182046Z
UID:10006381-1760529600-1760533200@www.khoury.northeastern.edu
SUMMARY:Prospective master’s student drop-in session (virtual)
DESCRIPTION:Register now\n\n\n\n\nAttend a drop-in session to ask any questions you have about your application\, career interest\, personal goals\, next steps\, and more! This informal session is a great opportunity to connect with our enrollment team and our current student ambassadors. Bring your questions — we have answers! \n\n\n\nDuring this session\, you’ll be able to: \n\n\n\n\nHear more about the master’s programs at Khoury College\n\n\n\nLearn more about the admissions process including application requirements\n\n\n\nReview deadlines and start terms for spring and fall\n\n\n\n\nThis event is virtual. Register today to receive your link to join! \n\n\n\n\nRegister now\n\n\n\n\nQuestions? Email khoury-prospect@northeastern.edu.
URL:https://www.khoury.northeastern.edu/event/prospective-masters-student-drop-in-session-10/
END:VEVENT
BEGIN:VEVENT
DTSTART;TZID=America/Los_Angeles:20251015T180000
DTEND;TZID=America/Los_Angeles:20251015T193000
DTSTAMP:20260423T152011
CREATED:20250814T185759Z
LAST-MODIFIED:20250814T185802Z
UID:10006462-1760551200-1760556600@www.khoury.northeastern.edu
SUMMARY:Break Into Tech: Vancouver
DESCRIPTION:Register now\n\n\n\n\nYour future in tech starts here — join us for an upcoming event\n\n\n\nBreak Into Tech: No experience required\n\n\n\nYou don’t need a background in tech to have a future in it. All you need is curiosity — and opportunity. Join other curious students and professionals with no tech background to learn about flexible pathways to a master’s degree in computer science\, data science\, and cybersecurity\, online and in person. \n\n\n\nFind your pathway into tech\n\n\n\nAttend a Break Into Tech event to: \n\n\n\n\nGet insights into the latest challenges in computer science\, data science\, or cybersecurity —and how you might solve them.\n\n\n\nDiscover how your unique background can lead to a future in tech with Align Master’s programs.\n\n\n\nDiscover the different pathways you can take to build a successful career in tech.\n\n\n\n\nPlease note: Participants must hold a bachelor’s degree or be nearing college graduation to participate. \n\n\n\nBreak Into Tech is for everyone\n\n\n\n\n150+ different disciplines\n\n\n\nStudents of Align master’s programs come from all backgrounds\n\n\n\n\nAbout the Align Master of Science\n\n\n\nAlign is a 2.5-year program in computer science\, data science\, or cybersecurity that provides a flexible pathway to a master’s degree for motivated students and professionals holding a bachelor’s in any discipline. \n\n\n\nYour experience matters — help shape the future of tech\n\n\n\n\n\n\nAfter my undergraduate studies\, I worked as a corporate finance analyst in a two-year rotational program at a bulge bracket investment bank. I gained business management and financial analysis skills. I did not enjoy working with the legacy database systems at this bank. This frustration was one of my introductions to tech. … I am getting a graduate degree in computer science to understand the technicalities of building software applications and become a well-rounded product manager. Luckily\, I found the Align CS program to help with the transition\, especially since I had little programming experience. … I see an entrepreneurial future in merging my love for music\, sports\, and personal finance with some tech solutions. I look forward to growing as a computer scientist and working on cool projects \n—Princewill\, Align MSCS ’25 BS Economics\n\n\n\n\n\n\n\n\n\n\n\nQuestions? Please email Khoury-prospect@northeastern.edu \n\n\n\n\nRegister now
URL:https://www.khoury.northeastern.edu/event/break-into-tech-vancouver/
LOCATION:Northeastern University Vancouver\, 410 West Georgia St. #1400\, Vancouver\, BC\, V6B1Z3\, Canada
END:VEVENT
BEGIN:VEVENT
DTSTART;TZID=America/New_York:20251015T180000
DTEND;TZID=America/New_York:20251015T193000
DTSTAMP:20260423T152011
CREATED:20250912T181607Z
LAST-MODIFIED:20251009T182219Z
UID:10006489-1760551200-1760556600@www.khoury.northeastern.edu
SUMMARY:Khoury Bridge: LinkedIn profile brand building (hybrid/Boston)
DESCRIPTION:Khoury seniors: Still searching for the perfect post-grad position? Join our interactive presentation with 2018 graduate Cassie Moreno to learn how to leverage your LinkedIn profile\, build your personal brand\, and land your dream job! Cassie graduated from CAMD with a BA in communication studies and theatre. Since then\, she has led an extensive career in marketing and business development\, most recently serving as a Partnerships Manager for RevPartners\, a HubSpot partner agency. She has also received multiple awards\, making the list of 300 Women Making an Impact in B2B SaaS. This is a hybrid event; please sign up here to indicate whether you plan to attend virtually or in-person\, as room capacity is limited.
URL:https://www.khoury.northeastern.edu/event/khoury-bridge-linkedin-profile-brand-building-with-cassie-moreno-18-2/
LOCATION:West Village H\, 440 Huntington Avenue\, Boston\, Massachusetts\, 02115\, United States
END:VEVENT
END:VCALENDAR