BEGIN:VCALENDAR
VERSION:2.0
PRODID:-//Khoury College of Computer Sciences - ECPv6.15.20//NONSGML v1.0//EN
CALSCALE:GREGORIAN
METHOD:PUBLISH
X-WR-CALNAME:Khoury College of Computer Sciences
X-ORIGINAL-URL:https://www.khoury.northeastern.edu
X-WR-CALDESC:Events for Khoury College of Computer Sciences
REFRESH-INTERVAL;VALUE=DURATION:PT1H
X-Robots-Tag:noindex
X-PUBLISHED-TTL:PT1H
BEGIN:VTIMEZONE
TZID:America/New_York
BEGIN:DAYLIGHT
TZOFFSETFROM:-0500
TZOFFSETTO:-0400
TZNAME:EDT
DTSTART:20240310T070000
END:DAYLIGHT
BEGIN:STANDARD
TZOFFSETFROM:-0400
TZOFFSETTO:-0500
TZNAME:EST
DTSTART:20241103T060000
END:STANDARD
BEGIN:DAYLIGHT
TZOFFSETFROM:-0500
TZOFFSETTO:-0400
TZNAME:EDT
DTSTART:20250309T070000
END:DAYLIGHT
BEGIN:STANDARD
TZOFFSETFROM:-0400
TZOFFSETTO:-0500
TZNAME:EST
DTSTART:20251102T060000
END:STANDARD
BEGIN:DAYLIGHT
TZOFFSETFROM:-0500
TZOFFSETTO:-0400
TZNAME:EDT
DTSTART:20260308T070000
END:DAYLIGHT
BEGIN:STANDARD
TZOFFSETFROM:-0400
TZOFFSETTO:-0500
TZNAME:EST
DTSTART:20261101T060000
END:STANDARD
END:VTIMEZONE
BEGIN:VEVENT
DTSTART;TZID=America/New_York:20251010T120000
DTEND;TZID=America/New_York:20251010T130000
DTSTAMP:20260423T200220
CREATED:20251003T203910Z
LAST-MODIFIED:20251014T180838Z
UID:10006515-1760097600-1760101200@www.khoury.northeastern.edu
SUMMARY:Khoury Bridge: AMA agent-assisted programming (hybrid/Boston)
DESCRIPTION:Register now\n\n\n\n\nCurious about where AI is headed? Hear from Ben Senescu\, a 2021 graduate who cofounded Patrol\, a company focused on making Shopify stores more accessible with LLMs. Discussion topics include: \n\n\n\n\nWhat are the traps with using LLMs for work?\n\n\n\nHow can candidates successfully use agents during interviews? \n\n\n\nWhat skills and habits are most important right now? \n\n\n\nHow can you use coding agents to learn more quickly? \n\n\n\n\nThis is a hybrid event for Khoury undergraduate seniors; please sign up to indicate whether you plan to attend virtually or in-person\, as the room capacity is limited.
URL:https://www.khoury.northeastern.edu/event/khoury-bridge-ama-agent-assisted-programing-with-ben-senescu-khoury-21-founding-engineer-at-patrol/
LOCATION:West Village H Room 166/168\, 440 Huntington Ave.\, Boston\, MA\, 02115\, United States
END:VEVENT
END:VCALENDAR