BEGIN:VCALENDAR
VERSION:2.0
PRODID:-//Khoury College of Computer Sciences - ECPv6.15.20//NONSGML v1.0//EN
CALSCALE:GREGORIAN
METHOD:PUBLISH
X-WR-CALNAME:Khoury College of Computer Sciences
X-ORIGINAL-URL:https://www.khoury.northeastern.edu
X-WR-CALDESC:Events for Khoury College of Computer Sciences
REFRESH-INTERVAL;VALUE=DURATION:PT1H
X-Robots-Tag:noindex
X-PUBLISHED-TTL:PT1H
BEGIN:VTIMEZONE
TZID:America/Los_Angeles
BEGIN:DAYLIGHT
TZOFFSETFROM:-0800
TZOFFSETTO:-0700
TZNAME:PDT
DTSTART:20240310T100000
END:DAYLIGHT
BEGIN:STANDARD
TZOFFSETFROM:-0700
TZOFFSETTO:-0800
TZNAME:PST
DTSTART:20241103T090000
END:STANDARD
BEGIN:DAYLIGHT
TZOFFSETFROM:-0800
TZOFFSETTO:-0700
TZNAME:PDT
DTSTART:20250309T100000
END:DAYLIGHT
BEGIN:STANDARD
TZOFFSETFROM:-0700
TZOFFSETTO:-0800
TZNAME:PST
DTSTART:20251102T090000
END:STANDARD
BEGIN:DAYLIGHT
TZOFFSETFROM:-0800
TZOFFSETTO:-0700
TZNAME:PDT
DTSTART:20260308T100000
END:DAYLIGHT
BEGIN:STANDARD
TZOFFSETFROM:-0700
TZOFFSETTO:-0800
TZNAME:PST
DTSTART:20261101T090000
END:STANDARD
END:VTIMEZONE
BEGIN:VEVENT
DTSTART;TZID=America/Los_Angeles:20251001T113000
DTEND;TZID=America/Los_Angeles:20251001T140000
DTSTAMP:20260423T230745
CREATED:20250926T202627Z
LAST-MODIFIED:20250929T164919Z
UID:10006504-1759318200-1759327200@www.khoury.northeastern.edu
SUMMARY:Khoury College office hours: Bellevue College (Seattle)
DESCRIPTION:Register now\n\n\n\n\nAttend this in-person “office hour” to learn more about all the programs available at our Seattle campus. This informal session is a great opportunity to connect with our enrollment team\, an Align advisor\, and current students. \n\n\n\nDuring this session\, you’ll have the opportunity to: \n\n\n\n\nLearn about Khoury master’s programs:\n\nMS in Computer Science\n\n\n\nMS in Computer Science – Align \n\n\n\nMS in Artificial Intelligence \n\n\n\nMS in Robotics\n\n\n\n\n\nLearn more about the admissions process including application requirements\n\n\n\nReview deadlines and start terms for fall and spring\n\n\n\n\nBring your questions — we have answers! \n\n\n\n\nRegister now
URL:https://www.khoury.northeastern.edu/event/office-hours-at-bellevue-college/
LOCATION:Bellevue College\, 3000 Landerholm Cir SE\, Building A\, Room 109\, Bellevue\, WA\, 98007\, United States
END:VEVENT
END:VCALENDAR