BEGIN:VCALENDAR
VERSION:2.0
PRODID:-//Khoury College of Computer Sciences - ECPv6.15.20//NONSGML v1.0//EN
CALSCALE:GREGORIAN
METHOD:PUBLISH
X-WR-CALNAME:Khoury College of Computer Sciences
X-ORIGINAL-URL:https://www.khoury.northeastern.edu
X-WR-CALDESC:Events for Khoury College of Computer Sciences
REFRESH-INTERVAL;VALUE=DURATION:PT1H
X-Robots-Tag:noindex
X-PUBLISHED-TTL:PT1H
BEGIN:VTIMEZONE
TZID:America/New_York
BEGIN:DAYLIGHT
TZOFFSETFROM:-0500
TZOFFSETTO:-0400
TZNAME:EDT
DTSTART:20240310T070000
END:DAYLIGHT
BEGIN:STANDARD
TZOFFSETFROM:-0400
TZOFFSETTO:-0500
TZNAME:EST
DTSTART:20241103T060000
END:STANDARD
BEGIN:DAYLIGHT
TZOFFSETFROM:-0500
TZOFFSETTO:-0400
TZNAME:EDT
DTSTART:20250309T070000
END:DAYLIGHT
BEGIN:STANDARD
TZOFFSETFROM:-0400
TZOFFSETTO:-0500
TZNAME:EST
DTSTART:20251102T060000
END:STANDARD
BEGIN:DAYLIGHT
TZOFFSETFROM:-0500
TZOFFSETTO:-0400
TZNAME:EDT
DTSTART:20260308T070000
END:DAYLIGHT
BEGIN:STANDARD
TZOFFSETFROM:-0400
TZOFFSETTO:-0500
TZNAME:EST
DTSTART:20261101T060000
END:STANDARD
END:VTIMEZONE
BEGIN:VEVENT
DTSTART;TZID=America/New_York:20250820T120000
DTEND;TZID=America/New_York:20250820T130000
DTSTAMP:20260423T120115
CREATED:20250509T151631Z
LAST-MODIFIED:20250519T155139Z
UID:10006379-1755691200-1755694800@www.khoury.northeastern.edu
SUMMARY:Prospective master’s student drop-in session (virtual)
DESCRIPTION:Register now\n\n\n\n\nAttend a drop-in session to ask any questions you have about your application\, career interest\, personal goals\, next steps\, and more! This informal session is a great opportunity to connect with our enrollment team and our current student ambassadors. Bring your questions — we have answers! \n\n\n\nDuring this session\, you’ll be able to: \n\n\n\n\nHear more about the master’s programs at Khoury\n\n\n\nLearn more about the admissions process including application requirements\n\n\n\nReview deadlines and start terms for Spring and Fall\n\n\n\n\nThis event is virtual. Register today to receive your link to join! \n\n\n\n\nRegister now\n\n\n\n\nQuestions? Email khoury-prospect@northeastern.edu.
URL:https://www.khoury.northeastern.edu/event/prospective-masters-student-drop-in-session-8/
END:VEVENT
END:VCALENDAR