BEGIN:VCALENDAR
VERSION:2.0
PRODID:-//Khoury College of Computer Sciences - ECPv6.15.20//NONSGML v1.0//EN
CALSCALE:GREGORIAN
METHOD:PUBLISH
X-WR-CALNAME:Khoury College of Computer Sciences
X-ORIGINAL-URL:https://www.khoury.northeastern.edu
X-WR-CALDESC:Events for Khoury College of Computer Sciences
REFRESH-INTERVAL;VALUE=DURATION:PT1H
X-Robots-Tag:noindex
X-PUBLISHED-TTL:PT1H
BEGIN:VTIMEZONE
TZID:America/New_York
BEGIN:DAYLIGHT
TZOFFSETFROM:-0500
TZOFFSETTO:-0400
TZNAME:EDT
DTSTART:20240310T070000
END:DAYLIGHT
BEGIN:STANDARD
TZOFFSETFROM:-0400
TZOFFSETTO:-0500
TZNAME:EST
DTSTART:20241103T060000
END:STANDARD
BEGIN:DAYLIGHT
TZOFFSETFROM:-0500
TZOFFSETTO:-0400
TZNAME:EDT
DTSTART:20250309T070000
END:DAYLIGHT
BEGIN:STANDARD
TZOFFSETFROM:-0400
TZOFFSETTO:-0500
TZNAME:EST
DTSTART:20251102T060000
END:STANDARD
BEGIN:DAYLIGHT
TZOFFSETFROM:-0500
TZOFFSETTO:-0400
TZNAME:EDT
DTSTART:20260308T070000
END:DAYLIGHT
BEGIN:STANDARD
TZOFFSETFROM:-0400
TZOFFSETTO:-0500
TZNAME:EST
DTSTART:20261101T060000
END:STANDARD
END:VTIMEZONE
BEGIN:VEVENT
DTSTART;TZID=America/New_York:20250628T110000
DTEND;TZID=America/New_York:20250628T123000
DTSTAMP:20260422T032816
CREATED:20250528T200101Z
LAST-MODIFIED:20250623T203346Z
UID:10006406-1751108400-1751113800@www.khoury.northeastern.edu
SUMMARY:Break Into Tech Social: Miami
DESCRIPTION:Register now\n\n\n\n\nMeet us for a Break Into Tech Social to learn how 1200+ students with no computer science background have started new careers in tech. \n\n\n\nOur Align Master’s program brings together creative thinkers from every background to learn computer science\, data science\, and cybersecurity for the very first time. \n\n\n\nJoin us for appetizers at our Break Into Tech Social at La Ferneteria Wynwood (map below) to learn more about the Align Master’s program at Northeastern University. \n\n\n\nPlease note: Participants must hold a bachelor’s degree or be nearing college graduation to participate. \n\n\n\nQuestions? Email d.rinaldi@northeastern.edu. \n\n\n\n\nRegister now
URL:https://www.khoury.northeastern.edu/event/break-into-tech-social-miami-la-ferneteria/
LOCATION:La Ferneteria (Rooftop Miami)\, 230 NW 24th St.\, Miami\, Florida\, 33127\, United States
END:VEVENT
END:VCALENDAR