BEGIN:VCALENDAR
VERSION:2.0
PRODID:-//Khoury College of Computer Sciences - ECPv6.15.20//NONSGML v1.0//EN
CALSCALE:GREGORIAN
METHOD:PUBLISH
X-WR-CALNAME:Khoury College of Computer Sciences
X-ORIGINAL-URL:https://www.khoury.northeastern.edu
X-WR-CALDESC:Events for Khoury College of Computer Sciences
REFRESH-INTERVAL;VALUE=DURATION:PT1H
X-Robots-Tag:noindex
X-PUBLISHED-TTL:PT1H
BEGIN:VTIMEZONE
TZID:America/Los_Angeles
BEGIN:DAYLIGHT
TZOFFSETFROM:-0800
TZOFFSETTO:-0700
TZNAME:PDT
DTSTART:20240310T100000
END:DAYLIGHT
BEGIN:STANDARD
TZOFFSETFROM:-0700
TZOFFSETTO:-0800
TZNAME:PST
DTSTART:20241103T090000
END:STANDARD
BEGIN:DAYLIGHT
TZOFFSETFROM:-0800
TZOFFSETTO:-0700
TZNAME:PDT
DTSTART:20250309T100000
END:DAYLIGHT
BEGIN:STANDARD
TZOFFSETFROM:-0700
TZOFFSETTO:-0800
TZNAME:PST
DTSTART:20251102T090000
END:STANDARD
BEGIN:DAYLIGHT
TZOFFSETFROM:-0800
TZOFFSETTO:-0700
TZNAME:PDT
DTSTART:20260308T100000
END:DAYLIGHT
BEGIN:STANDARD
TZOFFSETFROM:-0700
TZOFFSETTO:-0800
TZNAME:PST
DTSTART:20261101T090000
END:STANDARD
END:VTIMEZONE
BEGIN:VTIMEZONE
TZID:America/New_York
BEGIN:DAYLIGHT
TZOFFSETFROM:-0500
TZOFFSETTO:-0400
TZNAME:EDT
DTSTART:20240310T070000
END:DAYLIGHT
BEGIN:STANDARD
TZOFFSETFROM:-0400
TZOFFSETTO:-0500
TZNAME:EST
DTSTART:20241103T060000
END:STANDARD
BEGIN:DAYLIGHT
TZOFFSETFROM:-0500
TZOFFSETTO:-0400
TZNAME:EDT
DTSTART:20250309T070000
END:DAYLIGHT
BEGIN:STANDARD
TZOFFSETFROM:-0400
TZOFFSETTO:-0500
TZNAME:EST
DTSTART:20251102T060000
END:STANDARD
BEGIN:DAYLIGHT
TZOFFSETFROM:-0500
TZOFFSETTO:-0400
TZNAME:EDT
DTSTART:20260308T070000
END:DAYLIGHT
BEGIN:STANDARD
TZOFFSETFROM:-0400
TZOFFSETTO:-0500
TZNAME:EST
DTSTART:20261101T060000
END:STANDARD
END:VTIMEZONE
BEGIN:VEVENT
DTSTART;TZID=America/Los_Angeles:20250513T120000
DTEND;TZID=America/Los_Angeles:20250513T130000
DTSTAMP:20260423T132415
CREATED:20250429T145027Z
LAST-MODIFIED:20250520T161206Z
UID:10006371-1747137600-1747141200@www.khoury.northeastern.edu
SUMMARY:Khoury in Seattle Webinar
DESCRIPTION:Register now\n\n\n\n\nWhat can graduate school offer you? At Khoury College of Computer Sciences\, we believe computer science is for everyone — with the power to make the world a better place. That’s why we design flexible programs\, grounded in rigor\, opportunity\, and experience. It’s why we collaborate with industry and community partners on the technologies that shape our collec-tive future. And it’s why we seek curious thinkers with diverse backgrounds\, because multiple perspectives lead to life-changing discoveries. \n\n\n\nDuring this session we will cover the key topics: \n\n\n\n\nExplore the master’s programs offered in Seattle\n\n\n\nLearn about Northeastern’s #1 ranked co-op program\n\n\n\nHear more about our Seattle campus\n\n\n\n\nJoin our virtual session to learn more about the Northeastern University Seattle campus! \n\n\n\nWho should attend \n\n\n\n\nProfessionals from non-tech fields considering a career switch\n\n\n\nStudents from non-computer science disciplines\n\n\n\nAnyone interested in learning about alternative pathways into the tech industry\n\n\n\n\nQuestions? Email Tim at t.greer@northeastern.edu. \n\n\n\n\nRegister now
URL:https://www.khoury.northeastern.edu/event/khoury-in-seattle-webinar-3/
END:VEVENT
BEGIN:VEVENT
DTSTART;TZID=America/New_York:20250513T190000
DTEND;TZID=America/New_York:20250513T200000
DTSTAMP:20260423T132415
CREATED:20250321T140026Z
LAST-MODIFIED:20250411T183552Z
UID:10006350-1747162800-1747166400@www.khoury.northeastern.edu
SUMMARY:Graduate School Uncovered: Is It the Right Path for You?
DESCRIPTION:Thinking about grad school\, but not sure if it’s the right move for you? We’ve got you covered! This event is all about giving you the real deal on what graduate school is actually like so you can make an informed decision about your future. \n\n\n\nJoin us for a virtual session where we’ll dive into all the key questions — is grad school the right path for you? How do you choose the right program? We’ll also have a student panel to share real experiences and insights.  \n\n\n\n\nRegister now\n\n\n\n\nWhat to expect\n\n\n\n\nTrack I: Grad school in 2025: Is it the right move for you? \n\n\n\nTrack II: What to look for when selecting a grad school \n\n\n\nStudent panel\n\n\n\n\nDon’t miss out on this opportunity to clear up your doubts and feel more confident about your next academic step! Questions? Please email Khoury-prospect@northeastern.edu.
URL:https://www.khoury.northeastern.edu/event/graduate-school-uncovered-is-it-the-right-path-for-you/
END:VEVENT
END:VCALENDAR